Workbook

Sheet П 3
F2: Приложение 3 к Методическим рекомендациям
B4: Структура контингента воспитанников ____________________________________________________________________________________________ (наименование организации образования)
B6: № п/п | C6: Ф.И.О. | D6: Дата, месяц, год рождения | E6: Наименование группы | F6: Возрастная периодизация | G6: Возрастные группы | H6: сведения о зачислении в ДО | J6: сведения об отчислении из ДО
H7: Дата прибытия | I7: из них по государственному заказу (для частных ДО) | J7: Дата выбытия | K7: основание выбытия (выпуск, по заявлению, согласно ТПД и др.)
B11: Руководитель организации образования ________________ ________________________________
C12: (подпись) Ф.И.О. (при наличии)

Sheet 2020-2021
E1: Приложение 3 к Методическим рекомендациям
A3: Структура контингента воспитанников на 2020-2021 учебный год Государственное коммунальное казенное предприятие «Детский сад № 5 «Еркетай» города Степногорск при отделе образования по городу Степногорск управления образования Акмолинской области»
A4: № п/п | B4: Ф.И.О. | C4: Дата, месяц, год рождения | D4: Наименование группы | E4: Возрастная периодизация | F4: Возрастные группы | G4: сведения о зачислении в ДО | I4: сведения об отчислении из ДО
G5: Дата прибытия | H5: из них по государственному заказу (для частных ДО) | I5: Дата выбытия | J5: основание выбытия (выпуск, по заявлению, согласно ТПД и др.)
A6: 1 | B6: Душкин Артём Викторович | C6: 43258 | D6: «Радуга» | E6: Младший дошкольный возраст | F6: От 2 лет | G6: 44078.572
A7: 2 | B7: Заикина Маргарита Александровна | C7: 43172 | D7: «Радуга» | E7: Младший дошкольный возраст | F7: От 2 лет | G7: 44060.413
A8: 3 | B8: Курмангалиев Асан Ерланович | C8: 43141 | D8: «Радуга» | E8: Младший дошкольный возраст | F8: От 2 лет | G8: 44061 | I8: 44427 | J8: Заявление родителей
A9: 4 | B9: Комиссаров Никита Владимирович | C9: 43308 | D9: «Радуга» | E9: Младший дошкольный возраст | F9: От 2 лет | G9: 44081.412
A10: 5 | B10: Кожахметова Аиша Нурлановна | C10: 43325 | D10: «Радуга» | E10: Младший дошкольный возраст | F10: От 2 лет | G10: 44081.589
A11: 6 | B11: Лукпанова Айзере Еркеновна | C11: 43264 | D11: «Радуга» | E11: Младший дошкольный возраст | F11: От 2 лет | G11: 44046.477
A12: 7 | B12: Покоева Анастасия Геннадьевна | C12: 43215 | D12: «Радуга» | E12: Младший дошкольный возраст | F12: От 2 лет | G12: 44007.433
A13: 8 | B13: Сандыбаева Еркежан Кунанбаевна | C13: 43111 | D13: «Радуга» | E13: Младший дошкольный возраст | F13: От 2 лет | G13: 43993.424
A14: 9 | B14: Пастухов Велес Алексеевич | C14: 43200 | D14: «Радуга» | E14: Младший дошкольный возраст | F14: От 2 лет | G14: 44090 | I14: 44502 | J14: Заявление родителей
A15: 10 | B15: Аксёнов Дмитрий Владимирович | C15: 43374 | D15: «Радуга» | E15: Младший дошкольный возраст | F15: От 2 лет | G15: 44109.588
A16: 11 | B16: Аманкелді Арлан Серікұлы | C16: 43102 | D16: «Радуга» | E16: Младший дошкольный возраст | F16: От 2 лет | G16: 44109.678
A17: 12 | B17: Аубакиров Алдияр Аскарович | C17: 43313 | D17: «Радуга» | E17: Младший дошкольный возраст | F17: От 2 лет | G17: 44167.476
A18: 13 | B18: Ахметбеков Арлан Маратович | C18: 43433 | D18: «Радуга» | E18: Младший дошкольный возраст | F18: От 2 лет | G18: 44160 | I18: 44532 | J18: Заявление родителей
A19: 14 | B19: Қайрат Жания Болатқызы | C19: 43406 | D19: «Радуга» | E19: Младший дошкольный возраст | F19: От 2 лет | G19: 44214 | I19: 44461 | J19: Заявление родителей
A20: 15 | B20: Миронова Валерия Александровна | C20: 43447 | D20: «Радуга» | E20: Младший дошкольный возраст | F20: От 2 лет | G20: 44218.57
A21: 16 | B21: Тоқтар Айсана Әділханқызы | C21: 43225 | D21: «Радуга» | E21: Младший дошкольный возраст | F21: От 2 лет | G21: 44259.561
A22: 17 | B22: Самарханова Айым Куанышевна | C22: 43315 | D22: «Радуга» | E22: Младший дошкольный возраст | F22: От 2 лет | G22: 44228.611
A23: 18 | B23: Оразханов Тамерлан Куанышович | C23: 43219 | D23: «Радуга» | E23: Младший дошкольный возраст | F23: От 2 лет | G23: 44298.397
A24: 19 | B24: Будникова София Николаевна | C24: 43389 | D24: «Радуга» | E24: Младший дошкольный возраст | F24: От 2 лет | G24: 44257.545
A25: 20 | B25: Пушкарёв Артём Сергеевич | C25: 43225 | D25: «Радуга» | E25: Младший дошкольный возраст | F25: От 2 лет | G25: 44273.606
A26: 21 | B26: Сағынбай Мәлика Сағындыққызы | C26: ='[1]Выбывшие (8)'!$G$623 -> 43223 | D26: «Радуга» | E26: Младший дошкольный возраст | F26: От 2 лет | G26: 44084 | I26: 44439 | J26: =$J$19 -> Заявление родителей
A27: 22 | B27: Қайнар Рания Набиқызы | C27: ='[1]Выбывшие (8)'!$G$655 -> 43323 | D27: «Радуга» | E27: Младший дошкольный возраст | F27: От 2 лет | G27: 44298 | I27: 44474 | J27: =$J$19 -> Заявление родителей
A28: 23 | B28: Гойда Гордей Алексеевич | C28: ='[1]Выбывшие (8)'!$G$1049 -> 43224 | D28: «Радуга» | E28: Младший дошкольный возраст | F28: От 2 лет | G28: 44095 | I28: 44104 | J28: =$J$19 -> Заявление родителей
A29: 24 | B29: Амантұр Аниса Әлсейітқызы | C29: ='[1]Выбывшие (8)'!$G$1053 -> 43303 | D29: «Радуга» | E29: Младший дошкольный возраст | F29: От 2 лет | G29: 44130 | I29: 44173 | J29: =$J$19 -> Заявление родителей
A30: 25 | B30: Овчинникова Есения Ярославовна | C30: ='[1]Выбывшие (8)'!$G$1056 -> 43113 | D30: «Радуга» | E30: Младший дошкольный возраст | F30: От 2 лет | G30: 44242 | I30: 44377 | J30: =$J$19 -> Заявление родителей
A31: 26 | B31: Абай Ляйсан Саяткызы | C31: 43448 | D31: «Ромашка» | E31: Младший дошкольный возраст | F31: От 2 лет | G31: 44228.584
A32: 27 | B32: Абирова Жансая Жанатовна | C32: 43349 | D32: «Ромашка» | E32: Младший дошкольный возраст | F32: От 2 лет | G32: 44237.645
A33: 28 | B33: Адкина Ульяна Павловна | C33: 43346 | D33: «Ромашка» | E33: Младший дошкольный возраст | F33: От 2 лет | G33: 44138.414
A34: 29 | B34: Войтенко Матвей Константинович | C34: 43186 | D34: «Ромашка» | E34: Младший дошкольный возраст | F34: От 2 лет | G34: 44000.374
A35: 30 | B35: Воронкин Виктор Алексеевич | C35: 43132 | D35: «Ромашка» | E35: Младший дошкольный возраст | F35: От 2 лет | G35: 44091.634
A36: 31 | B36: Гейдарли Аснат Ланыч Гызы | C36: 43244 | D36: «Ромашка» | E36: Младший дошкольный возраст | F36: От 2 лет | G36: 44007.458
A37: 32 | B37: Габайдуллина Софья Тимуровна | C37: 43237 | D37: «Ромашка» | E37: Младший дошкольный возраст | F37: От 2 лет | G37: 44041.512
A38: 33 | B38: Дюсембина Сабина Армановна | C38: 43132 | D38: «Ромашка» | E38: Младший дошкольный возраст | F38: От 2 лет | G38: 44064.468
A39: 34 | B39: Жұмаш Ислам Мейрамұлы | C39: 43319 | D39: «Ромашка» | E39: Младший дошкольный возраст | F39: От 2 лет | G39: 44083.568
A40: 35 | B40: Қайролла Арлан Айдынұлы | C40: 43189 | D40: «Ромашка» | E40: Младший дошкольный возраст | F40: От 2 лет | G40: 44063.613
A41: 36 | B41: Қанапия Айсана Қанатқызы | C41: 43171 | D41: «Ромашка» | E41: Младший дошкольный возраст | F41: От 2 лет | G41: 27.01.2022, 10:00 | I41: 44508.413 | J41: Заявление родителей
A42: 37 | B42: Ключникова Арина Руслановна | C42: 43283 | D42: «Ромашка» | E42: Младший дошкольный возраст | F42: От 2 лет | G42: 44221.537
A43: 38 | B43: Прокудина Алиса Андреевна | C43: 43397 | D43: «Ромашка» | E43: Младший дошкольный возраст | F43: От 2 лет | G43: 44214.489
A44: 39 | B44: Ромазанов Азиз Бахтиярович | C44: 43237 | D44: «Ромашка» | E44: Младший дошкольный возраст | F44: От 2 лет | G44: 44104.675
A45: 40 | B45: Савина Святослава Сергеевна | C45: 43422 | D45: «Ромашка» | E45: Младший дошкольный возраст | F45: От 2 лет | G45: 44229.658
A46: 41 | B46: Серік Әмина Қайратқызы | C46: 43141 | D46: «Ромашка» | E46: Младший дошкольный возраст | F46: От 2 лет | G46: 44301.587
A47: 42 | B47: Шуакова Адема Женисовна | C47: 43325 | D47: «Ромашка» | E47: Младший дошкольный возраст | F47: От 2 лет | G47: 44077
A48: 43 | B48: Борисова Милана Вадимовна | C48: 25.08.2018. | D48: «Ромашка» | E48: Младший дошкольный возраст | F48: От 2 лет | G48: 44298.401
A49: 44 | B49: Карпова Валерия Алексеевна | C49: 43388 | D49: «Ромашка» | E49: Младший дошкольный возраст | F49: От 2 лет | G49: 44284
A50: 45 | B50: Шляк София Станиславовна | C50: 43249 | D50: «Ромашка» | E50: Младший дошкольный возраст | F50: От 2 лет | G50: 44284 | I50: 44503 | J50: Заявление родителей
A51: 46 | B51: Кирибаева Ляйсан Тлеухановна | C51: ='[1]Выбывшие (8)'!$G$1062 -> 43323 | D51: «Ромашка» | E51: Младший дошкольный возраст | F51: От 2 лет | G51: 44298 | I51: 44432 | J51: =$J$19 -> Заявление родителей
A52: 47 | B52: ='2021-2022'!B82 -> Зелюк Ева Дмитриевна | C52: ='2021-2022'!C82 -> 43220 | D52: «Ромашка» | E52: Младший дошкольный возраст | F52: От 2 лет | G52: ='2021-2022'!G82 -> 44434 | I52: ='2021-2022'!I82 -> 44518 | J52: ='2021-2022'!J82 -> Заявление родителей
A53: 48 | B53: Ильин Борис Денисович | C53: 42719 | D53: «Ягодка» | E53: Средний дошкольный возраст | F53: От 3 лет | G53: 43266
A54: 49 | B54: Ильин Ярослав Денисович | C54: 42719 | D54: «Ягодка» | E54: Средний дошкольный возраст | F54: От 3 лет | G54: 43266
A55: 50 | B55: Айған Әлия Ермекқызы | C55: 42950 | D55: «Ягодка» | E55: Средний дошкольный возраст | F55: От 3 лет | G55: 44011.497
A56: 51 | B56: Омержан Алижан Елдосұлы | C56: 42930 | D56: «Ягодка» | E56: Средний дошкольный возраст | F56: От 3 лет | G56: 44046.479
A57: 52 | B57: Дудникова Вероника Романовна | C57: 42973 | D57: «Ягодка» | E57: Средний дошкольный возраст | F57: От 3 лет | G57: 43992.477
A58: 53 | B58: Баймуханова Ясмина Армановна | C58: 43004 | D58: «Ягодка» | E58: Средний дошкольный возраст | F58: От 3 лет | G58: 44013.547
A59: 54 | B59: Қайырбек Әділжан Ерқосайұлы | C59: 42867 | D59: «Ягодка» | E59: Средний дошкольный возраст | F59: От 3 лет | G59: 44424.509
A60: 55 | B60: Иванова Ариана Юрьевна | C60: 42987 | D60: «Ягодка» | E60: Средний дошкольный возраст | F60: От 3 лет | G60: 43728.626
A61: 56 | B61: Пономарев Матвей Алексеевич | C61: 42898 | D61: «Ягодка» | E61: Средний дошкольный возраст | F61: От 3 лет | G61: 43742.487
A62: 57 | B62: Мареев Никита Андреевич | C62: 43058 | D62: «Ягодка» | E62: Средний дошкольный возраст | F62: От 3 лет | G62: 43745.636
A63: 58 | B63: Кобылянова Василиса Олеговна | C63: 42801 | D63: «Ягодка» | E63: Средний дошкольный возраст | F63: От 3 лет | G63: 43732.502
A64: 59 | B64: Абдрахман Сания Мейрамбекқызы | C64: 42676 | D64: «Ягодка» | E64: Средний дошкольный возраст | F64: От 3 лет | G64: 43720.615
A65: 60 | B65: Рашевская Виктория Сергеевна | C65: 42942 | D65: «Ягодка» | E65: Средний дошкольный возраст | F65: От 3 лет | G65: 08.09.2020, 11:11
A66: 61 | B66: Курумбаева Айзере | C66: 42760 | D66: «Ягодка» | E66: Средний дошкольный возраст | F66: От 3 лет | G66: 43731.466
A67: 62 | B67: Кулаева Маргарита Ивановна | C67: 43064 | D67: «Ягодка» | E67: Средний дошкольный возраст | F67: От 3 лет | G67: 44252.694
A68: 63 | B68: Сильман Давид Данилович | C68: 42726 | D68: «Ягодка» | E68: Средний дошкольный возраст | F68: От 3 лет | G68: 43728.686
A69: 64 | B69: Байтас Сұлтан Сейлханұлы | C69: 42829 | D69: «Ягодка» | E69: Средний дошкольный возраст | F69: От 3 лет | G69: 43658.401 | I69: 04.10.2021, 9:40 | J69: Заявление родителей
A70: 65 | B70: Давлетбаева Екатерина Александровна | C70: 43064 | D70: «Ягодка» | E70: Средний дошкольный возраст | F70: От 3 лет | G70: 43738 | I70: 44517 | J70: Заявление родителей
A71: 66 | B71: Дилмуратова Аяжан Рахымжановна | C71: 42773 | D71: «Ягодка» | E71: Средний дошкольный возраст | F71: От 3 лет | G71: 43735.376
A72: 67 | B72: Айтпагина НикольСофия Руслановна | C72: 42961 | D72: «Ягодка» | E72: Средний дошкольный возраст | F72: От 3 лет | G72: 43727.459
A73: 68 | B73: Мамат Абай Ердосұлы | C73: 42956 | D73: «Ягодка» | E73: Средний дошкольный возраст | F73: От 3 лет | G73: 44264.624
A74: 69 | B74: Шульгин Виталий Сергеевич | C74: 43004 | D74: «Ягодка» | E74: Средний дошкольный возраст | F74: От 3 лет | G74: 43738.708
A75: 70 | B75: Махмудов Ансар Абылаевич | C75: 43078 | D75: «Ягодка» | E75: Средний дошкольный возраст | F75: От 3 лет | G75: 44088 | I75: 44491 | J75: Заявление родителей
A76: 71 | B76: Жанатова Медина Куатовна | C76: 42815 | D76: «Ягодка» | E76: Средний дошкольный возраст | F76: От 3 лет | G76: 43725
A77: 72 | B77: Шәрібек Нұрбек Ақылбекұлы | C77: 42954 | D77: «Ягодка» | E77: Средний дошкольный возраст | F77: От 3 лет | G77: 44298 | I77: 44447 | J77: Заявление родителей
A78: 73 | B78: Амиров Чингиз Ерланович | C78: 42820 | D78: «Пчелка» | E78: Средний дошкольный возраст | F78: От 3 лет | G78: 43651.584
A79: 74 | B79: Алдонғар Ясмин Нұржанқызы | C79: 42768 | D79: «Пчелка» | E79: Средний дошкольный возраст | F79: От 3 лет | G79: 43669
A80: 75 | B80: Адилов Бексултан Нуржанович | C80: 42937 | D80: «Пчелка» | E80: Средний дошкольный возраст | F80: От 3 лет | G80: 43662.376
A81: 76 | B81: Амангелеров Зелимхан Асетович | C81: 42771 | D81: «Пчелка» | E81: Средний дошкольный возраст | F81: От 3 лет | G81: 43651.571
A82: 77 | B82: Бурухин Платон Викторович | C82: 42748 | D82: «Пчелка» | E82: Средний дошкольный возраст | F82: От 3 лет | G82: 43647 | I82: 44377 | J82: Заявление родителей
A83: 78 | B83: Гаврилятова Аглая Антоновна | C83: 42782 | D83: «Пчелка» | E83: Средний дошкольный возраст | F83: От 3 лет | G83: 43651.574
A84: 79 | B84: Дылюк Вероника Александровна | C84: 43044 | D84: «Пчелка» | E84: Средний дошкольный возраст | F84: От 3 лет | G84: 43703.605
A85: 80 | B85: Долгих Ева Евгеньевна | C85: 42778 | D85: «Пчелка» | E85: Средний дошкольный возраст | F85: От 3 лет | G85: 43651.572
A86: 81 | B86: Ермагамбетова Амира Женисовна | C86: 42887 | D86: «Пчелка» | E86: Средний дошкольный возраст | F86: От 3 лет | G86: 43651.675
A87: 82 | B87: Жаненов Амир Аскарович | C87: 42875 | D87: «Пчелка» | E87: Средний дошкольный возраст | F87: От 3 лет | G87: 43724.596
A88: 83 | B88: Заугольникова Лера Максимовна | C88: 42810 | D88: «Пчелка» | E88: Средний дошкольный возраст | F88: От 3 лет | G88: 43866.628
A89: 84 | B89: Қайрат Әділ Асхатұлы | C89: 42749 | D89: «Пчелка» | E89: Средний дошкольный возраст | F89: От 3 лет | G89: 43699.377
A90: 85 | B90: Краевой Александр Александрович | C90: 42753 | D90: «Пчелка» | E90: Средний дошкольный возраст | F90: От 3 лет | G90: 43734.458
A91: 86 | B91: Купешева Дария Бауржановна | C91: 43067 | D91: «Пчелка» | E91: Средний дошкольный возраст | F91: От 3 лет | G91: 44060.497
A92: 87 | B92: Канапин Осман Джамалович | C92: 42948 | D92: «Пчелка» | E92: Средний дошкольный возраст | F92: От 3 лет | G92: 44060.413
A93: 88 | B93: Мереке Анель Бахтияркызы | C93: 42915 | D93: «Пчелка» | E93: Средний дошкольный возраст | F93: От 3 лет | G93: 43678.627
A94: 89 | B94: Мереке Жанель Бахтияркызы | C94: 42915 | D94: «Пчелка» | E94: Средний дошкольный возраст | F94: От 3 лет | G94: 43678.627
A95: 90 | B95: Огарь Сергей Антонович | C95: 43026 | D95: «Пчелка» | E95: Средний дошкольный возраст | F95: От 3 лет | G95: 44225.724
A96: 91 | B96: Суйндикова Аделя Елбековна | C96: 42885 | D96: «Пчелка» | E96: Средний дошкольный возраст | F96: От 3 лет | G96: 43683 | I96: 44414 | J96: Заявление родителей
A97: 92 | B97: Исаев Назар Русланович | C97: 42774 | D97: «Пчелка» | E97: Средний дошкольный возраст | F97: От 3 лет | G97: 43644
A98: 93 | B98: Самарханов Адилет Куанышевич | C98: 42753 | D98: «Пчелка» | E98: Средний дошкольный возраст | F98: От 3 лет | G98: 43881.425
A99: 94 | B99: Сулейменов Даниэль Шамильевич | C99: 42912 | D99: «Пчелка» | E99: Средний дошкольный возраст | F99: От 3 лет | G99: 44005.451
A100: 95 | B100: Даир Даяна Саябекқызы | C100: 42869 | D100: «Пчелка» | E100: Средний дошкольный возраст | F100: От 3 лет | G100: 44104.6
A101: 96 | B101: Файфер Елизавета Александровна | C101: 42798 | D101: «Пчелка» | E101: Средний дошкольный возраст | F101: От 3 лет | G101: 43662.444
...

Sheet 2021-2022
E1: Приложение 3 к Методическим рекомендациям
A3: Структура контингента воспитанников на 2021-2022 учебный год Государственное коммунальное казенное предприятие «Детский сад № 5 «Еркетай» города Степногорск при отделе образования по городу Степногорск управления образования Акмолинской области»
A4: № п/п | B4: Ф.И.О. | C4: Дата, месяц, год рождения | D4: Наименование группы | E4: Возрастная периодизация | F4: Возрастные группы | G4: сведения о зачислении в ДО | I4: сведения об отчислении из ДО
G5: Дата прибытия | H5: из них по государственному заказу (для частных ДО) | I5: Дата выбытия | J5: основание выбытия (выпуск, по заявлению, согласно ТПД и др.)
A6: 1 | B6: Равильев Али Султанович | C6: 43540 | D6: « Карусель» | E6: Младший дошкольный возраст | F6: От 2 лет | G6: 44351
A7: 2 | B7: Кашневич Сергей Русланович | C7: 43572 | D7: « Карусель» | E7: Младший дошкольный возраст | F7: От 2 лет | G7: 44356.514
A8: 3 | B8: Гришель Дэниель Витальевич | C8: 43636 | D8: « Карусель» | E8: Младший дошкольный возраст | F8: От 2 лет | G8: 44356.723 | I8: 44713.414 | J8: Заявление родителей
A9: 4 | B9: Тагаймуратова Алла Талгатовна | C9: 43808 | D9: « Карусель» | E9: Младший дошкольный возраст | F9: От 2 лет | G9: 44504.416
A10: 5 | B10: Кирсанова Ника Сергеевна | C10: 43759 | D10: « Карусель» | E10: Младший дошкольный возраст | F10: От 2 лет | G10: 44361.449 | I10: 44790.481 | J10: Заявление родителей
A11: 6 | B11: Куприк Мирон Сергеевич | C11: 43640 | D11: « Карусель» | E11: Младший дошкольный возраст | F11: От 2 лет | G11: 44361.528 | I11: 44739.557 | J11: Заявление родителей
A12: 7 | B12: Тимурлан Эсмина Қизатқызы | C12: 43512 | D12: « Карусель» | E12: Младший дошкольный возраст | F12: От 2 лет | G12: 44362.481
A13: 8 | B13: Токсеитова Ясмин Ануаровна | C13: 43767 | D13: « Карусель» | E13: Младший дошкольный возраст | F13: От 2 лет | G13: 44363.582
A14: 9 | B14: Шипачев Владимир Владимирович | C14: 43559 | D14: « Карусель» | E14: Младший дошкольный возраст | F14: От 2 лет | G14: 44364.66
A15: 10 | B15: Горбенко Артём Александрович | C15: 43628 | D15: « Карусель» | E15: Младший дошкольный возраст | F15: От 2 лет | G15: 44365.463
A16: 11 | B16: Пономарева София Алексеевна | C16: 43589 | D16: « Карусель» | E16: Младший дошкольный возраст | F16: От 2 лет | G16: 44368.622
A17: 12 | B17: Нартов Давид Георгиевич | C17: 43560 | D17: « Карусель» | E17: Младший дошкольный возраст | F17: От 2 лет | G17: 44369.582
A18: 13 | B18: Сулейменова Диана Шамильевна | C18: 43635 | D18: « Карусель» | E18: Младший дошкольный возраст | F18: От 2 лет | G18: 44372.57
A19: 14 | B19: Бейсембаева Малика Жанатовна | C19: 43517 | D19: « Карусель» | E19: Младший дошкольный возраст | F19: От 2 лет | G19: 44377.689
A20: 15 | B20: Черненко Милена Сергеевна | C20: 43498 | D20: « Карусель» | E20: Младший дошкольный возраст | F20: От 2 лет | G20: 44385.597
A21: 16 | B21: Крылышкин Евгений Артемович | C21: 43732 | D21: « Карусель» | E21: Младший дошкольный возраст | F21: От 2 лет | G21: 44396.497
A22: 17 | B22: Курочкин Андрей Дмитриевич | C22: 43588 | D22: « Карусель» | E22: Младший дошкольный возраст | F22: От 2 лет | G22: 44404.413
A23: 18 | B23: Семенова Серафима Дмитриевна | C23: 43726 | D23: « Карусель» | E23: Младший дошкольный возраст | F23: От 2 лет | G23: 44404.414
... A25: 20 | B25: Воронкина Виктория Алексеевна | C25: 43612 | D25: « Карусель» | E25: Младший дошкольный возраст | F25: От 2 лет | G25: 44426.522
A26: 21 | B26: Бекишев Ансар Аскарович | C26: 43641 | D26: « Карусель» | E26: Младший дошкольный возраст | F26: От 2 лет | G26: 20.01.2022, 11:55 | I26: 44767 | J26: Заявление родителей
A27: 22 | B27: Жексенбай Арыслан Нұрланұлы | C27: 43631 | D27: « Карусель» | E27: Младший дошкольный возраст | F27: От 2 лет | G27: 44522.496
A28: 23 | B28: Аронец Арина Дмитриевна | C28: 43831 | D28: « Карусель» | E28: Младший дошкольный возраст | F28: От 2 лет | G28: 44573.439 | I28: 44750.452 | J28: Заявление родителей
A29: 24 | B29: Жумабаева Аяжан Бауржановна | C29: 43775 | D29: « Карусель» | E29: Младший дошкольный возраст | F29: От 2 лет | G29: 44553.444
A30: 25 | B30: Лазько Анна Евгеньевна | C30: 43592 | D30: « Карусель» | E30: Младший дошкольный возраст | F30: От 2 лет | G30: 44600.636
A31: 26 | B31: Котельник Эмиль Андреевич | C31: 43762 | D31: « Карусель» | E31: Младший дошкольный возраст | F31: От 2 лет | G31: 44552.426
A32: 27 | B32: Асылбек Алдияр Айбекұлы | C32: 43633 | D32: «Қызғалдақ» | E32: Младший дошкольный возраст | F32: От 2 лет | G32: 44356.739
A33: 28 | B33: Назиолла Жан Баянұлы | C33: 43694 | D33: «Қызғалдақ» | E33: Младший дошкольный возраст | F33: От 2 лет | G33: 44358.482
A34: 29 | B34: Жумабекова Айзере Айбековна | C34: 43614 | D34: «Қызғалдақ» | E34: Младший дошкольный возраст | F34: От 2 лет | G34: 44365.561
A35: 30 | B35: Жанпеисова Самира Саматовна | C35: 43751 | D35: «Қызғалдақ» | E35: Младший дошкольный возраст | F35: От 2 лет | G35: 44368.669
A36: 31 | B36: Жаксылыков Даниэль Даниярович | C36: 43602 | D36: «Қызғалдақ» | E36: Младший дошкольный возраст | F36: От 2 лет | G36: 44375.61 | I36: 44771.434 | J36: Заявление родителей
A37: 32 | B37: Құлбай Әли Байрамгелдіұлы | C37: 43525 | D37: «Қызғалдақ» | E37: Младший дошкольный возраст | F37: От 2 лет | G37: 44414.498
A38: 33 | B38: Болат Ноян Рүстемұлы | C38: 43753 | D38: «Қызғалдақ» | E38: Младший дошкольный возраст | F38: От 2 лет | G38: 44393.702
A39: 34 | B39: Базарбай Әмина Нұрланқызы | C39: 43746 | D39: «Қызғалдақ» | E39: Младший дошкольный возраст | F39: От 2 лет | G39: 44424.393
A40: 35 | B40: Қалымтай Келдібек Бауржанұлы | C40: 43677 | D40: «Қызғалдақ» | E40: Младший дошкольный возраст | F40: От 2 лет | G40: 44425.684 | I40: 44715.594 | J40: Заявление родителей
A41: 36 | B41: Алиева Айлин Алибековна | C41: 43731 | D41: «Қызғалдақ» | E41: Младший дошкольный возраст | F41: От 2 лет | G41: 44425.692
A42: 37 | B42: Шайзада Медина Айболқызы | C42: 43501 | D42: «Қызғалдақ» | E42: Младший дошкольный возраст | F42: От 2 лет | G42: 44426.557
A43: 38 | B43: Олжабаев Алихан Жанатаевич | C43: 43673 | D43: «Қызғалдақ» | E43: Младший дошкольный возраст | F43: От 2 лет | G43: 44431.441
A44: 39 | B44: Қабдылсамат Алуа Бахтиярқызы | C44: 43749 | D44: «Қызғалдақ» | E44: Младший дошкольный возраст | F44: От 2 лет | G44: 44432.429 | I44: 44679.657 | J44: Заявление родителей
A45: 40 | B45: Сүйіндік Есенсейіт Асанұлы | C45: 43568 | D45: «Қызғалдақ» | E45: Младший дошкольный возраст | F45: От 2 лет | G45: 44434.538
A46: 41 | B46: Сердалин Бихан Канатович | C46: 43589 | D46: «Қызғалдақ» | E46: Младший дошкольный возраст | F46: От 2 лет | G46: 44455.714
A47: 42 | B47: Бекзан Жансұлтан Маратұлы | C47: 43530 | D47: «Қызғалдақ» | E47: Младший дошкольный возраст | F47: От 2 лет | G47: 44519.534
A48: 43 | B48: Даир Айбике Саябекқызы | C48: 43756 | D48: «Қызғалдақ» | E48: Младший дошкольный возраст | F48: От 2 лет | G48: 44523.417
A49: 44 | B49: Қадысбек Жұпар Ерқанатқызы | C49: 43787 | D49: «Қызғалдақ» | E49: Младший дошкольный возраст | F49: От 2 лет | G49: 44523.645
A50: 45 | B50: Болат Әмірхан Бекжанұлы | C50: 43584 | D50: «Қызғалдақ» | E50: Младший дошкольный возраст | F50: От 2 лет | G50: 44582.44 | I50: 44902.406 | J50: Заявление родителей
A51: 46 | B51: Ахмуллина Шамиль Рамильевич | C51: 43800 | D51: «Қызғалдақ» | E51: Младший дошкольный возраст | F51: От 2 лет | G51: 44601.693 | I51: 44810.654 | J51: Заявление родителей
A52: 47 | B52: Алмас Жәудір Абзалқызы | C52: 43609 | D52: «Қызғалдақ» | E52: Младший дошкольный возраст | F52: От 2 лет | G52: 44615.402 | I52: 44866.482 | J52: Заявление родителей
A53: 48 | B53: Есимов Алан Ерикович | C53: 43475 | D53: «Қызғалдақ» | E53: Младший дошкольный возраст | F53: От 2 лет | G53: 09.03.2022, 10:03 | I53: 44851.615 | J53: Заявление родителей
A54: 49 | B54: Бейбіт Ақерке Ақжанқызы | C54: 43520 | D54: «Қызғалдақ» | E54: Младший дошкольный возраст | F54: От 2 лет | G54: 01.04.2022,11:11
A55: 50 | B55: Мамат Айдос Ердосұлы | C55: 43781 | D55: «Қызғалдақ» | E55: Младший дошкольный возраст | F55: От 2 лет | G55: 44655.524
A56: 51 | B56: Ахтанова Айза Азаматовна | C56: 43689 | D56: «Қызғалдақ» | E56: Младший дошкольный возраст | F56: От 2 лет | G56: 44666.596
A57: 52 | B57: Сандыбаева Еркежан Кунанбаевна | C57: 43111 | D57: «Радуга» | E57: Средний дошкольный возраст | F57: От 3 лет | G57: 43993.424
A58: 53 | B58: Покоева Анастасия Геннадьевна | C58: 43215 | D58: «Радуга» | E58: Средний дошкольный возраст | F58: От 3 лет | G58: 44007.433
A59: 54 | B59: Заикина Маргарита Александровна | C59: 43172 | D59: «Радуга» | E59: Средний дошкольный возраст | F59: От 3 лет | G59: 44060.413
A60: 55 | B60: Лукпанова Айзере Еркеновна | C60: 43264 | D60: «Радуга» | E60: Средний дошкольный возраст | F60: От 3 лет | G60: 44046.477
A61: 56 | B61: Душкин Артём Викторович | C61: 43258 | D61: «Радуга» | E61: Средний дошкольный возраст | F61: От 3 лет | G61: 44078.572
A62: 57 | B62: Комиссаров Никита Владимирович | C62: 43308 | D62: «Радуга» | E62: Средний дошкольный возраст | F62: От 3 лет | G62: 44081.412
A63: 58 | B63: Кожахметова Аиша Нурлановна | C63: 43325 | D63: «Радуга» | E63: Средний дошкольный возраст | F63: От 3 лет | G63: 44081.589
A64: 59 | B64: Андриенко Олег Михайлович | C64: 43169 | D64: «Радуга» | E64: Средний дошкольный возраст | F64: От 3 лет | G64: 44585.459
A65: 60 | B65: Айдархан Айзере Аманкельды | C65: 43231 | D65: «Радуга» | E65: Средний дошкольный возраст | F65: От 3 лет | G65: 44481.51
A66: 61 | B66: Аксенов Дмитрий Владимирович | C66: 43374 | D66: «Радуга» | E66: Средний дошкольный возраст | F66: От 3 лет | G66: 44109.588
A67: 62 | B67: Аманкелді Арлан Серікұлы | C67: 43102 | D67: «Радуга» | E67: Средний дошкольный возраст | F67: От 3 лет | G67: 44109.678 | I67: 44809.65 | J67: Заявление родителей
A68: 63 | B68: Кадысбек Сұлтанахмет Ерқанатұлы | C68: 43258 | D68: «Радуга» | E68: Средний дошкольный возраст | F68: От 3 лет | G68: 44522.459
A69: 64 | B69: Аубакиров Алдияр Аскарович | C69: 43313 | D69: «Радуга» | E69: Средний дошкольный возраст | F69: От 3 лет | G69: 44167.476
A70: 65 | B70: Абишева Элина Дастановна | C70: 43243 | D70: «Радуга» | E70: Средний дошкольный возраст | F70: От 3 лет | G70: 44468.601 | I70: 44733.418 | J70: Заявление родителей
A71: 66 | B71: Миронова Валерия Александровна | C71: 43447 | D71: «Радуга» | E71: Средний дошкольный возраст | F71: От 3 лет | G71: 44218.57
A72: 67 | B72: Самарханова Айым Куанышевна | C72: 43315 | D72: «Радуга» | E72: Средний дошкольный возраст | F72: От 3 лет | G72: 44228.611
A73: 68 | B73: Будникова София Николаевна | C73: 43389 | D73: «Радуга» | E73: Средний дошкольный возраст | F73: От 3 лет | G73: 44257.545
A74: 69 | B74: Тоқтар Айсана Әділханқызы | C74: 43225 | D74: «Радуга» | E74: Средний дошкольный возраст | F74: От 3 лет | G74: 44259.561
A75: 70 | B75: Пушкарев Артем Сергеевич | C75: 05.05.2018. | D75: «Радуга» | E75: Средний дошкольный возраст | F75: От 3 лет | G75: 44273.606
A76: 71 | B76: Данилов Роман Юрьевич | C76: 43280 | D76: «Радуга» | E76: Средний дошкольный возраст | F76: От 3 лет | G76: 44298.396 | I76: 44825.673 | J76: Заявление родителей
A77: 72 | B77: Оразханов Тамерлан Куанышович | C77: 43219 | D77: «Радуга» | E77: Средний дошкольный возраст | F77: От 3 лет | G77: 44298.397
A78: 73 | B78: Сағынбай Мәлика Сағындыққызы | C78: 43223 | D78: «Радуга» | E78: Средний дошкольный возраст | F78: От 3 лет | G78: ='[3]Контингент (15)'!$N$211 -> 2020-09-10T11:54:00 | I78: 44439.614 | J78: Заявление родителей
A79: 74 | B79: Исмаилова Ирина Олеговна | C79: 43334 | D79: «Радуга» | E79: Средний дошкольный возраст | F79: От 3 лет | G79: 44368.679
A80: 75 | B80: Косбармаков Амир Аскарович | C80: 43447 | D80: «Радуга» | E80: Средний дошкольный возраст | F80: От 3 лет | G80: 44523.472
A81: 76 | B81: Овчинникова Есения Ярославовна | C81: 43113 | D81: «Радуга» | E81: Средний дошкольный возраст | F81: От 3 лет | G81: 44242 | I81: 44377 | J81: Заявление родителей
A82: 77 | B82: Зелюк Ева Дмитриевна | C82: ='[1]Выбывшие (8)'!$G$1075 -> 43220 | D82: «Радуга» | E82: Средний дошкольный возраст | F82: От 3 лет | G82: 44434 | I82: 44518 | J82: Заявление родителей
A83: 78 | B83: Абай Ләйсан Саятқызы | C83: 43448 | D83: «Ромашка» | E83: Средний дошкольный возраст | F83: От 3 лет | G83: 44228.584
A84: 79 | B84: Абирова Жансая Жанатовна | C84: 43349 | D84: «Ромашка» | E84: Средний дошкольный возраст | F84: От 3 лет | G84: 44237.645
A85: 80 | B85: Адкина Ульяна Павловна | C85: 43346 | D85: «Ромашка» | E85: Средний дошкольный возраст | F85: От 3 лет | G85: 44138.414
A86: 81 | B86: Арифуллина Эмма Дамировна | C86: 43404 | D86: «Ромашка» | E86: Средний дошкольный возраст | F86: От 3 лет | G86: 44371.593
A87: 82 | B87: Бардиер Влада Максимовна | C87: 43357 | D87: «Ромашка» | E87: Средний дошкольный возраст | F87: От 3 лет | G87: 21.01.2022,09:11 | I87: 44767.555 | J87: Заявление родителей
A88: 83 | B88: Борисова Милана Вадимовна | C88: 25.08.2018. | D88: «Ромашка» | E88: Средний дошкольный возраст | F88: От 3 лет | G88: 44298.401
A89: 84 | B89: Воронкин Виктор Алексеевич | C89: 43132 | D89: «Ромашка» | E89: Средний дошкольный возраст | F89: От 3 лет | G89: 44091.634
A90: 85 | B90: Войтенко Матвей Константинович | C90: 43186 | D90: «Ромашка» | E90: Средний дошкольный возраст | F90: От 3 лет | G90: 44000.374
A91: 86 | B91: Гейдарли Аснат Лачын Гызы | C91: 43244 | D91: «Ромашка» | E91: Средний дошкольный возраст | F91: От 3 лет | G91: 44007.458
A92: 87 | B92: Габайдулина Софья Тимуровна | C92: 43237 | D92: «Ромашка» | E92: Средний дошкольный возраст | F92: От 3 лет | G92: 44041.512
A93: 88 | B93: Дюсембина Сабина Армановна | C93: 43132 | D93: «Ромашка» | E93: Средний дошкольный возраст | F93: От 3 лет | G93: 44064.468
A94: 89 | B94: Жұмаш Ислам Мейрамұлы | C94: 43319 | D94: «Ромашка» | E94: Средний дошкольный возраст | F94: От 3 лет | G94: 44083.568
A95: 90 | B95: Земляков Савелий Ильич | C95: 43304 | D95: «Ромашка» | E95: Средний дошкольный возраст | F95: От 3 лет | G95: 14.02.2022,11:11
A96: 91 | B96: Зубова Кира Юрьевна | C96: 43390 | D96: «Ромашка» | E96: Средний дошкольный возраст | F96: От 3 лет | G96: 44385.518
A97: 92 | B97: Карпова Валерия Алексеевна | C97: 43388 | D97: «Ромашка» | E97: Средний дошкольный возраст | F97: От 3 лет | G97: 44284.603 | I97: 44770.463 | J97: Заявление родителей
A98: 93 | B98: Қайролла Арлан Айдынұлы | C98: 43189 | D98: «Ромашка» | E98: Средний дошкольный возраст | F98: От 3 лет | G98: 44063.613
A99: 94 | B99: Ключникова Арина Руслановна | C99: 43283 | D99: «Ромашка» | E99: Средний дошкольный возраст | F99: От 3 лет | G99: 44221.537
A100: 95 | B100: Кожатаев Тагир Кайратулы | C100: 43303 | D100: «Ромашка» | E100: Средний дошкольный возраст | F100: От 3 лет | G100: 25.01.2022, 11:01 | I100: 44777.427 | J100: Заявление родителей
A101: 96 | B101: Қанапия Айсана Қанатқызы | C101: 43171 | D101: «Ромашка» | E101: Средний дошкольный возраст | F101: От 3 лет | G101: 27.01.2022, 10:00 | I101: 44508.413 | J101: Заявление родителей
A102: 97 | B102: Прокудина Алиса Андреевна | C102: 43397 | D102: «Ромашка» | E102: Средний дошкольный возраст | F102: От 3 лет | G102: 44214.489
...

Sheet 2022-2023 исправленный
E1: Приложение 3 к Методическим рекомендациям
A3: Структура контингента воспитанников на 2022-2023 учебный год Государственное коммунальное казенное предприятие «Детский сад № 5 «Еркетай» города Степногорск при отделе образования по городу Степногорск управления образования Акмолинской области»
A4: № п/п | B4: Ф.И.О. | C4: Дата, месяц, год рождения | D4: Наименование группы | E4: Возрастная периодизация | F4: Возрастные группы | G4: сведения о зачислении в ДО | I4: сведения об отчислении из ДО
G5: Дата прибытия | H5: из них по государственному заказу (для частных ДО) | I5: Дата выбытия | J5: основание выбытия (выпуск, по заявлению, согласно ТПД и др.)
A6: 1 | B6: ВАСИЛЬЕВ ВЛАДИСЛАВ ДЕНИСОВИЧ | C6: 43877 | D6: Солнышко | E6: Младший дошкольный возраст | F6: От 2 лет | G6: 2022-06-02T00:00:00 | I6: ="2022-11-14T00:00:00" -> 2022-11-14T00:00:00 | J6: по заявлению
A7: 2 | B7: ЧУЛАКОВ ТАИР РУСЛАНОВИЧ | C7: 43857 | D7: Солнышко | E7: Младший дошкольный возраст | F7: От 2 лет | G7: 2022-06-03T00:00:00
A8: 3 | B8: СМИРНОВ ДЕМИД ИВАНОВИЧ | C8: 43905 | D8: Солнышко | E8: Младший дошкольный возраст | F8: От 2 лет | G8: 2022-06-06T00:00:00
A9: 4 | B9: СТОРОЖЕВА СОФИЯ ЕВГЕНЬЕВНА | C9: 43834 | D9: Солнышко | E9: Младший дошкольный возраст | F9: От 2 лет | G9: 2022-06-06T00:00:00
A10: 5 | B10: МАРИНИЧЕВ ДМИТРИЙ ДМИТРИЕВИЧ | C10: 43915 | D10: Солнышко | E10: Младший дошкольный возраст | F10: От 2 лет | G10: 2022-06-06T00:00:00
A11: 6 | B11: ИВАНОВ МИХАИЛ НИКИТИЧ | C11: 44036 | D11: Солнышко | E11: Младший дошкольный возраст | F11: От 2 лет | G11: 2022-06-06T00:00:00
A12: 7 | B12: КИМ КАРИНА ЮРЬЕВНА | C12: 44091 | D12: Солнышко | E12: Младший дошкольный возраст | F12: От 2 лет | G12: 2022-06-06T00:00:00
A13: 8 | B13: ТУМАНОВ МАТВЕЙ ВАДИМОВИЧ | C13: 43836 | D13: Солнышко | E13: Младший дошкольный возраст | F13: От 2 лет | G13: 2022-06-06T00:00:00
A14: 9 | B14: ВАЙМЕР СОФЬЯ СЕРГЕЕВНА | C14: 43915 | D14: Солнышко | E14: Младший дошкольный возраст | F14: От 2 лет | G14: 2022-06-06T00:00:00
A15: 10 | B15: ПЕТРОВ НИКОЛАЙ НИКОЛАЕВИЧ | C15: 43860 | D15: Солнышко | E15: Младший дошкольный возраст | F15: От 2 лет | G15: 2022-06-06T00:00:00
A16: 11 | B16: АЛИМКАЙДАРОВ БАХТИЯР КАНАТОВИЧ | C16: 43881 | D16: Солнышко | E16: Младший дошкольный возраст | F16: От 2 лет | G16: 2022-06-06T00:00:00
A17: 12 | B17: ШИЛО МАРИЯ-СТЕФАНИЯ ДЕНИСОВНА | C17: 44167 | D17: Солнышко | E17: Младший дошкольный возраст | F17: От 2 лет | G17: 2022-06-07T00:00:00
A18: 13 | B18: МУХАМЕДИНА АЙЛИН АЯЗБИЕВНА | C18: 43875 | D18: Солнышко | E18: Младший дошкольный возраст | F18: От 2 лет | G18: 2022-06-07T00:00:00
... A20: 15 | B20: ПОНОМАРЕНКО ЕГОР СТАНИСЛАВОВИЧ | C20: 44063 | D20: Солнышко | E20: Младший дошкольный возраст | F20: От 2 лет | G20: 2022-06-24T00:00:00
A21: 16 | B21: ГАБАЙДУЛИН РАТМИР ТИМУРОВИЧ | C21: 43946 | D21: Солнышко | E21: Младший дошкольный возраст | F21: От 2 лет | G21: 2022-06-24T00:00:00 | I21: ='[4]Выбывшие (7)'!$AB$1124 -> 2022-10-10T00:00:00 | J21: по заявлению
A22: 17 | B22: МАЛЫШЕВА ПОЛИНА СЕРГЕЕВНА | C22: 43937 | D22: Солнышко | E22: Младший дошкольный возраст | F22: От 2 лет | G22: 2022-06-24T00:00:00
A23: 18 | B23: САҒДАТ АСАНАЛИ ӘДІЛҰЛЫ | C23: 44113 | D23: Солнышко | E23: Младший дошкольный возраст | F23: От 2 лет | G23: 2022-06-24T00:00:00
A24: 19 | B24: ФИСУН ДАРЬЯ АРТЁМОВНА | C24: 43979 | D24: Солнышко | E24: Младший дошкольный возраст | F24: От 2 лет | G24: 2022-06-24T00:00:00
A25: 20 | B25: НАРТОВА ЛИЛИЯ ГЕОРГИЕВНА | C25: 44111 | D25: Солнышко | E25: Младший дошкольный возраст | F25: От 2 лет | G25: 2022-07-21T00:00:00
A26: 21 | B26: ='[5]Выгрузка НОБД на конец октября '!$H$217 -> ГНАТЮК ЕГОР АЛЕКСЕЕВИЧ | C26: ='[5]Выгрузка НОБД на конец октября '!$G$217 -> 44097 | D26: Солнышко | E26: Младший дошкольный возраст | F26: От 2 лет | G26: ='[5]Выгрузка НОБД на конец октября '!$R$217 -> 2022-10-14T00:00:00
A27: 22 | B27: ='[6]Выгрузка НОБД за ноябрь 2022'!H48 -> ДУШКИНА АЛИСА ВИКТОРОВНА | C27: ='[6]Выгрузка НОБД за ноябрь 2022'!G48 -> 43951 | D27: Солнышко | E27: Младший дошкольный возраст | F27: От 2 лет | G27: ='[6]Выгрузка НОБД за ноябрь 2022'!R48 -> 2022-11-07T00:00:00
A28: 23 | B28: ='[6]Выгрузка НОБД за ноябрь 2022'!H49 -> КОРБМАХЕР РОДИОН ДМИТРИЕВИЧ | C28: ='[6]Выгрузка НОБД за ноябрь 2022'!G49 -> 43834 | D28: Солнышко | E28: Младший дошкольный возраст | F28: От 2 лет | G28: ='[6]Выгрузка НОБД за ноябрь 2022'!R49 -> 2022-11-07T00:00:00
A29: 24 | B29: ='[6]Выгрузка НОБД за ноябрь 2022'!$H$226 -> МИШИНА ДИАНА ДМИТРИЕВНА | C29: ='[6]Выгрузка НОБД за ноябрь 2022'!$G$226 -> 43895 | D29: Солнышко | E29: Младший дошкольный возраст | F29: От 2 лет | G29: ='[6]Выгрузка НОБД за ноябрь 2022'!$R$226 -> 2022-11-10T00:00:00
A30: 25 | B30: ='[6]Выгрузка НОБД за ноябрь 2022'!H230 -> АТАШЕВ РИЗВАН РУСЛАНОВИЧ | C30: ='[6]Выгрузка НОБД за ноябрь 2022'!G230 -> 43910 | D30: Солнышко | E30: Младший дошкольный возраст | F30: От 2 лет | G30: ='[6]Выгрузка НОБД за ноябрь 2022'!R230 -> 2022-11-07T00:00:00 | I30: 45001 | J30: по заявлению
A31: 26 | B31: ='[6]Выгрузка НОБД за ноябрь 2022'!H231 -> ПЕДАН ЮЛИЯ АНДРЕЕВНА | C31: ='[6]Выгрузка НОБД за ноябрь 2022'!G231 -> 44026 | D31: Солнышко | E31: Младший дошкольный возраст | F31: От 2 лет | G31: ='[6]Выгрузка НОБД за ноябрь 2022'!R231 -> 2022-11-07T00:00:00
A32: 27 | B32: ЛОГВИНЕНКО МАРИЯ АЛЕКСАНДРОВНА | C32: 44173 | D32: Солнышко | E32: Младший дошкольный возраст | F32: От 2 лет | G32: 2022-07-04T00:00:00
A33: 28 | B33: АСКАРОВ АГЛАН АЛИЕВИЧ | C33: 43843 | D33: Балапан | E33: Младший дошкольный возраст | F33: От 2 лет | G33: 2022-06-01T00:00:00
A34: 29 | B34: НҰРБЕКҚЫЗЫ ДАНА | C34: 43991 | D34: Балапан | E34: Младший дошкольный возраст | F34: От 2 лет | G34: 2022-06-06T00:00:00
A35: 30 | B35: ҚУАНЫШ АЙМИРА САМАТҚЫЗЫ | C35: 44025 | D35: Балапан | E35: Младший дошкольный возраст | F35: От 2 лет | G35: 2022-06-06T00:00:00
A36: 31 | B36: ИСКАКОВ АЛИМ АЗАМАТОВИЧ | C36: 43978 | D36: Балапан | E36: Младший дошкольный возраст | F36: От 2 лет | G36: 2022-06-07T00:00:00
A37: 32 | B37: САБЫРОВ АЛИМЖАН НАРИМАНОВИЧ | C37: 44033 | D37: Балапан | E37: Младший дошкольный возраст | F37: От 2 лет | G37: 2022-06-07T00:00:00
A38: 33 | B38: САБЫРОВ АЛИХАН НАРИМАНОВИЧ | C38: 44033 | D38: Балапан | E38: Младший дошкольный возраст | F38: От 2 лет | G38: 2022-06-07T00:00:00 | I38: ='[4]Выбывшие (7)'!$AB$1120 -> 2023-03-02T00:00:00 | J38: по заявлению
A39: 34 | B39: САНДЫБАЕВА ЗЕРЕ КУНАНБАЕВНА | C39: 43884 | D39: Балапан | E39: Младший дошкольный возраст | F39: От 2 лет | G39: 2022-06-07T00:00:00
A40: 35 | B40: ЖҰМАЖАН МЕДИНА АСАНҚЫЗЫ | C40: 44162 | D40: Балапан | E40: Младший дошкольный возраст | F40: От 2 лет | G40: 2022-06-07T00:00:00
A41: 36 | B41: ЕСИМБАЕВ БАХТИЯР ЕЛАМАНОВИЧ | C41: 43926 | D41: Балапан | E41: Младший дошкольный возраст | F41: От 2 лет | G41: 2022-06-09T00:00:00
A42: 37 | B42: ОРАЗХАНОВ АМИРХАН КУАНЫШЕВИЧ | C42: 43997 | D42: Балапан | E42: Младший дошкольный возраст | F42: От 2 лет | G42: 2022-06-14T00:00:00
A43: 38 | B43: САРСЕМБАЙ НҰРАСЫЛ АСЕТҰЛЫ | C43: 44011 | D43: Балапан | E43: Младший дошкольный возраст | F43: От 2 лет | G43: 2022-06-14T00:00:00
A44: 39 | B44: БАЙТАС ДАРИЯ СЕИЛХАНҚЫЗЫ | C44: 43970 | D44: Балапан | E44: Младший дошкольный возраст | F44: От 2 лет | G44: 2022-06-14T00:00:00
A45: 40 | B45: НОВИКОВА СОФИЯ НИКОЛАЕВНА | C45: 43861 | D45: Балапан | E45: Младший дошкольный возраст | F45: От 2 лет | G45: 2022-06-24T00:00:00
A46: 41 | B46: НОВИКОВ ЭМИЛЬ НИКОЛАЕВИЧ | C46: 43861 | D46: Балапан | E46: Младший дошкольный возраст | F46: От 2 лет | G46: 2022-06-24T00:00:00
A47: 42 | B47: СЕЙЛХАН ІҢКӘР АСЫЛЖАНҚЫЗЫ | C47: 43889 | D47: Балапан | E47: Младший дошкольный возраст | F47: От 2 лет | G47: 2022-06-29T00:00:00
A48: 43 | B48: ЕХСАН ТОЛҒАНАЙ МЕРЕКЕҚЫЗЫ | C48: 44132 | D48: Балапан | E48: Младший дошкольный возраст | F48: От 2 лет | G48: 2022-06-29T00:00:00
A49: 44 | B49: КАЛИБЕКОВ ИЛЬЯС НУРБЕКОВИЧ | C49: 44102 | D49: Балапан | E49: Младший дошкольный возраст | F49: От 2 лет | G49: 2022-07-01T00:00:00
A50: 45 | B50: ШЕРӘЛІ МЕЙІРБЕК МҰРАТҰЛЫ | C50: 44052 | D50: Балапан | E50: Младший дошкольный возраст | F50: От 2 лет | G50: 2022-07-22T00:00:00
A51: 46 | B51: ҚИЯШ МЫРЗАКЕЛДІ АМАНДЫҚҰЛЫ | C51: 44073 | D51: Балапан | E51: Младший дошкольный возраст | F51: От 2 лет | G51: 2022-08-31T00:00:00 | I51: ='[4]Выбывшие (7)'!$AB$1128 -> 2023-01-19T00:00:00 | J51: по заявлению
A52: 47 | B52: ='[6]Выгрузка НОБД за ноябрь 2022'!H51 -> БОРАНБАЕВА ТОМИРИС САМАТОВНА | C52: ='[6]Выгрузка НОБД за ноябрь 2022'!G51 -> 44070 | D52: Балапан | E52: Младший дошкольный возраст | F52: От 2 лет | G52: ='[6]Выгрузка НОБД за ноябрь 2022'!R51 -> 2022-11-17T00:00:00
A53: 48 | B53: ='[6]Выгрузка НОБД за ноябрь 2022'!H52 -> АСҚАР АРНҰР МУРАТҰЛЫ | C53: ='[6]Выгрузка НОБД за ноябрь 2022'!G52 -> 44071 | D53: Балапан | E53: Младший дошкольный возраст | F53: От 2 лет | G53: ='[6]Выгрузка НОБД за ноябрь 2022'!R52 -> 2022-11-24T00:00:00 | I53: ='[4]Выбывшие (7)'!$AB$1130 -> 2022-12-26T00:00:00 | J53: =$J$51 -> по заявлению
A54: 49 | B54: ='[6]Выгрузка НОБД за ноябрь 2022'!$H$54 -> АЛДАБЕРГЕН АЙЫМ ҰЛАНҚЫЗЫ | C54: ='[6]Выгрузка НОБД за ноябрь 2022'!$G$54 -> 44090 | D54: Балапан | E54: Младший дошкольный возраст | F54: От 2 лет | G54: ='[6]Выгрузка НОБД за ноябрь 2022'!$R$54 -> 2022-11-24T00:00:00
A55: 50 | B55: ='[6]Выгрузка НОБД за ноябрь 2022'!$H$225 -> ЕРБОЛАТ АХМЕТ АЛМАСҰЛЫ | C55: ='[6]Выгрузка НОБД за ноябрь 2022'!$G$225 -> 44117 | D55: Балапан | E55: Младший дошкольный возраст | F55: От 2 лет | G55: ='[6]Выгрузка НОБД за ноябрь 2022'!$R$225 -> 2022-11-25T00:00:00 | I55: ='[4]Выбывшие (7)'!$AB$1131 -> 2023-01-18T00:00:00 | J55: =$J$53 -> по заявлению
A56: 51 | B56: ='[6]Выгрузка НОБД за ноябрь 2022'!$H$227 -> ҚУАТ ӘМІР ӘДІЛҰЛЫ | C56: ='[6]Выгрузка НОБД за ноябрь 2022'!$G$227 -> 43953 | D56: Балапан | E56: Младший дошкольный возраст | F56: От 2 лет | G56: ='[6]Выгрузка НОБД за ноябрь 2022'!$R$227 -> 2022-11-08T00:00:00
A57: 52 | B57: ='[7]Выгрузка НОБД на январь 23г'!H42 -> СЕРІК АДИЯ МЕЙРАМБЕКҚЫЗЫ | C57: ='[7]Выгрузка НОБД на январь 23г'!G42 -> 44000 | D57: Балапан | E57: Младший дошкольный возраст | F57: От 2 лет | G57: ='[7]Выгрузка НОБД на январь 23г'!V42 -> 2023-01-18T00:00:00
A58: 53 | B58: ='[7]Выгрузка НОБД на январь 23г'!H43 -> ЖАНАБАЕВА АНЕЛЯ АСХАТОВНА | C58: ='[7]Выгрузка НОБД на январь 23г'!G43 -> 43886 | D58: Балапан | E58: Младший дошкольный возраст | F58: От 2 лет | G58: ='[7]Выгрузка НОБД на январь 23г'!V43 -> 2023-01-12T00:00:00
A59: 54 | B59: ='[7]Выгрузка НОБД на январь 23г'!$H$215 -> ҚАЗБЕК АЯЛЫМ ТІЛЕКТЕСҚЫЗЫ | C59: ='[7]Выгрузка НОБД на январь 23г'!$G$215 -> 44158 | D59: Балапан | E59: Младший дошкольный возраст | F59: От 2 лет | G59: ='[7]Выгрузка НОБД на январь 23г'!$V$215 -> 2023-01-25T00:00:00
A60: 55 | B60: =[8]Sheet!$C$23 -> СЕЙТКАНОВ ТЕМИРТАС ЕРЖАНОВИЧ | C60: =[8]Sheet!$E$23 -> 43993 | D60: Балапан | E60: Младший дошкольный возраст | F60: От 2 лет | G60: 44991.469
A61: 56 | B61: КАШНЕВИЧ СЕРГЕЙ РУСЛАНОВИЧ | C61: 43572 | D61: Карусель | E61: Средний дошкольный возраст | F61: От 3 лет | G61: 2021-06-09T00:00:00
A62: 57 | B62: ТИМУРЛАН ЭСМИНА ҚИЗАТҚЫЗЫ | C62: 43512 | D62: Карусель | E62: Средний дошкольный возраст | F62: От 3 лет | G62: 2021-06-15T00:00:00
A63: 58 | B63: ТОКСЕИТОВА ЯСМИН АНУАРОВНА | C63: 43767 | D63: Карусель | E63: Средний дошкольный возраст | F63: От 3 лет | G63: 2021-06-16T00:00:00
A64: 59 | B64: ШИПАЧЕВ ВЛАДИМИР ВЛАДИМИРОВИЧ | C64: 43559 | D64: Карусель | E64: Средний дошкольный возраст | F64: От 3 лет | G64: 2021-06-17T00:00:00
A65: 60 | B65: ГОРБЕНКО АРТЁМ АЛЕКСАНДРОВИЧ | C65: 43628 | D65: Карусель | E65: Средний дошкольный возраст | F65: От 3 лет | G65: 2021-06-18T00:00:00 | I65: ='[4]Выбывшие (7)'!$AB$1086 -> 2023-01-16T00:00:00 | J65: по заявлению
A66: 61 | B66: ПОНОМАРЕВА СОФИЯ АЛЕКСЕЕВНА | C66: 43589 | D66: Карусель | E66: Средний дошкольный возраст | F66: От 3 лет | G66: 2021-06-21T00:00:00
A67: 62 | B67: НАРТОВ ДАВИД ГЕОРГИЕВИЧ | C67: 43560 | D67: Карусель | E67: Средний дошкольный возраст | F67: От 3 лет | G67: 2021-06-22T00:00:00
A68: 63 | B68: СУЛЕЙМЕНОВА ДИАНА ШАМИЛЬЕВНА | C68: 43635 | D68: Карусель | E68: Средний дошкольный возраст | F68: От 3 лет | G68: 2021-06-25T00:00:00
A69: 64 | B69: БЕЙСЕМБАЕВА МАЛИКА ЖАНАТОВНА | C69: 43517 | D69: Карусель | E69: Средний дошкольный возраст | F69: От 3 лет | G69: 2021-06-30T00:00:00
A70: 65 | B70: ЧЕРНЕНКО МИЛЕНА СЕРГЕЕВНА | C70: 43498 | D70: Карусель | E70: Средний дошкольный возраст | F70: От 3 лет | G70: 2021-07-08T00:00:00
A71: 66 | B71: КРЫЛЫШКИН ЕВГЕНИЙ АРТЕМОВИЧ | C71: 43732 | D71: Карусель | E71: Средний дошкольный возраст | F71: От 3 лет | G71: 2021-07-19T00:00:00
A72: 67 | B72: КУРОЧКИН АНДРЕЙ ДМИТРИЕВИЧ | C72: 43588 | D72: Карусель | E72: Средний дошкольный возраст | F72: От 3 лет | G72: 2021-07-27T00:00:00
A73: 68 | B73: СЕМЕНОВА СЕРАФИМА ДМИТРИЕВНА | C73: 43726 | D73: Карусель | E73: Средний дошкольный возраст | F73: От 3 лет | G73: 2021-07-27T00:00:00
A74: 69 | B74: СЕРГЕЕВ НИКИТА АЛЕКСАНДРОВИЧ | C74: 43544 | D74: Карусель | E74: Средний дошкольный возраст | F74: От 3 лет | G74: 2021-08-11T00:00:00
A75: 70 | B75: ВОРОНКИНА ВИКТОРИЯ АЛЕКСЕЕВНА | C75: 43612 | D75: Карусель | E75: Средний дошкольный возраст | F75: От 3 лет | G75: 2021-08-18T00:00:00
A76: 71 | B76: РАВИЛЬЕВ АЛИ СУЛТАНОВИЧ | C76: 43540 | D76: Карусель | E76: Средний дошкольный возраст | F76: От 3 лет | G76: 2021-06-04T00:00:00
A77: 72 | B77: ТАГАЙМУРАТОВА АЛЛА ТАЛГАТОВНА | C77: 43808 | D77: Карусель | E77: Средний дошкольный возраст | F77: От 3 лет | G77: 2021-11-04T00:00:00
... A82: 77 | B82: СТАРОСТИНА СОФИЯ АНДРЕЕВНА | C82: 43709 | D82: Карусель | E82: Средний дошкольный возраст | F82: От 3 лет | G82: 2022-06-07T00:00:00
A83: 78 | B83: ЕСЕНАЛИНОВА АДЕЛИНА ТЕМИРГАЛИЕВНА | C83: 43776 | D83: Карусель | E83: Средний дошкольный возраст | F83: От 3 лет | G83: 2022-07-11T00:00:00 | I83: ='[4]Выбывшие (7)'!$AB$1125 -> 2022-11-02T00:00:00 | J83: по заявлению
A84: 79 | B84: ЖУМАТАЕВ ИСЛАМ САМАТҰЛЫ | C84: 43623 | D84: Карусель | E84: Средний дошкольный возраст | F84: От 3 лет | G84: 2022-08-01T00:00:00
A85: 80 | B85: РУШИДИНОВА РАЙЯНА РУФАТОВНА | C85: 43815 | D85: Карусель | E85: Средний дошкольный возраст | F85: От 3 лет | G85: 2022-08-23T00:00:00
A86: 81 | B86: ='[6]Выгрузка НОБД за ноябрь 2022'!$H$228 -> НУРГОЖИНА МЕДИНА ЕРКИНОВНА | C86: ='[6]Выгрузка НОБД за ноябрь 2022'!$G$228 -> 43587 | D86: Карусель | E86: Средний дошкольный возраст | F86: От 3 лет | G86: ='[6]Выгрузка НОБД за ноябрь 2022'!$R$228 -> 2022-11-08T00:00:00 | I86: ='[4]Выбывшие (7)'!$AB$1082 -> 2022-12-01T00:00:00 | J86: по заявлению
A87: 82 | B87: ='[9]Контингент (46)'!$H$231 -> МҰХАМЕТЖАР АЯЛА БАХТИЯРҚЫЗЫ | C87: ='[9]Контингент (46)'!$G$231 -> 43627 | D87: Карусель | E87: Средний дошкольный возраст | F87: От 3 лет | G87: ='[9]Контингент (46)'!$V$231 -> 2022-12-07T00:00:00
A88: 83 | B88: ='[7]Выгрузка НОБД на январь 23г'!$H$40 -> АВРАШКИН МАТВЕЙ РОМАНОВИЧ | C88: ='[7]Выгрузка НОБД на январь 23г'!$G$40 -> 43677 | D88: Карусель | E88: Средний дошкольный возраст | F88: От 3 лет | G88: ='[7]Выгрузка НОБД на январь 23г'!$V$40 -> 2023-01-20T00:00:00
A89: 84 | B89: АСЫЛБЕК АЛДИЯР АЙБЕКҰЛЫ | C89: 43633 | D89: Қызғалдақ | E89: Средний дошкольный возраст | F89: От 3 лет | G89: 2021-06-09T00:00:00
A90: 85 | B90: НАЗИОЛЛА ЖАН БАЯНҰЛЫ | C90: 43694 | D90: Қызғалдақ | E90: Средний дошкольный возраст | F90: От 3 лет | G90: 2021-06-11T00:00:00
A91: 86 | B91: ЖУМАБЕКОВА АЙЗЕРЕ АЙБЕКОВНА | C91: 43614 | D91: Қызғалдақ | E91: Средний дошкольный возраст | F91: От 3 лет | G91: 2021-06-18T00:00:00
A92: 87 | B92: ЖАНПЕИСОВА САМИРА САМАТОВНА | C92: 43751 | D92: Қызғалдақ | E92: Средний дошкольный возраст | F92: От 3 лет | G92: 2021-06-21T00:00:00
A93: 88 | B93: БОЛАТ НОЯН РҮСТЕМҰЛЫ | C93: 43753 | D93: Қызғалдақ | E93: Средний дошкольный возраст | F93: От 3 лет | G93: 2021-07-16T00:00:00
A94: 89 | B94: ҚҰЛБАЙ ӘЛИ БАЙРАМГЕЛДІҰЛЫ | C94: 43525 | D94: Қызғалдақ | E94: Средний дошкольный возраст | F94: От 3 лет | G94: 2021-08-06T00:00:00
A95: 90 | B95: БАЗАРБАЙ ӘМИНА НҰРЛАНҚЫЗЫ | C95: 43746 | D95: Қызғалдақ | E95: Средний дошкольный возраст | F95: От 3 лет | G95: 2021-08-16T00:00:00
A96: 91 | B96: АЛИЕВА АЙЛИН АЛИБЕКОВНА | C96: 43731 | D96: Қызғалдақ | E96: Средний дошкольный возраст | F96: От 3 лет | G96: 2021-08-17T00:00:00
A97: 92 | B97: ШАЙЗАДА МЕДИНА АЙБОЛҚЫЗЫ | C97: 43501 | D97: Қызғалдақ | E97: Средний дошкольный возраст | F97: От 3 лет | G97: 2021-08-18T00:00:00
A98: 93 | B98: ОЛЖАБАЕВ АЛИХАН ЖАНАТАЕВИЧ | C98: 43673 | D98: Қызғалдақ | E98: Средний дошкольный возраст | F98: От 3 лет | G98: 2021-08-23T00:00:00
A99: 94 | B99: СҮЙІНДІК ЕСЕНСЕЙІТ АСАНҰЛЫ | C99: 43568 | D99: Қызғалдақ | E99: Средний дошкольный возраст | F99: От 3 лет | G99: 2021-08-26T00:00:00
A100: 95 | B100: СЕРДАЛИН БИХАН КАНАТОВИЧ | C100: 43589 | D100: Қызғалдақ | E100: Средний дошкольный возраст | F100: От 3 лет | G100: 2021-09-16T00:00:00
... A103: 98 | B103: ҚАДЫСБЕК ЖҰПАР ЕРҚАНАТҚЫЗЫ | C103: 43787 | D103: Қызғалдақ | E103: Средний дошкольный возраст | F103: От 3 лет | G103: 2021-11-23T00:00:00
A104: 99 | B104: БОЛАТ ӘМІРХАН БЕКЖАНҰЛЫ | C104: 43584 | D104: Қызғалдақ | E104: Средний дошкольный возраст | F104: От 3 лет | G104: 2022-01-21T00:00:00 | I104: ='[4]Выбывшие (7)'!$AB$1110 -> 2022-12-07T00:00:00 | J104: =$J$186 -> по заявлению
A105: 100 | B105: АЛМАС ЖӘУДІР АБЗАЛҚЫЗЫ | C105: 43609 | D105: Қызғалдақ | E105: Средний дошкольный возраст | F105: От 3 лет | G105: 2022-02-23T00:00:00 | I105: ='[4]Выбывшие (7)'!$AB$1115 -> 2022-11-01T00:00:00 | J105: =$J$186 -> по заявлению
A106: 101 | B106: ЕСИМОВ АЛАН ЕРИКОВИЧ | C106: 43475 | D106: Қызғалдақ | E106: Средний дошкольный возраст | F106: От 3 лет | G106: 2022-03-09T00:00:00 | I106: ='[4]Выбывшие (7)'!$AB$1117 -> 2022-10-17T00:00:00 | J106: =$J$186 -> по заявлению
A107: 102 | B107: БЕЙБІТ АҚЕРКЕ АҚЖАНҚЫЗЫ | C107: 43520 | D107: Қызғалдақ | E107: Средний дошкольный возраст | F107: От 3 лет | G107: 2022-04-01T00:00:00
A108: 103 | B108: МАМАТ АЙДОС ЕРДОСҰЛЫ | C108: 43781 | D108: Қызғалдақ | E108: Средний дошкольный возраст | F108: От 3 лет | G108: 2022-04-04T00:00:00
...

Sheet 2023-2024
E1: Приложение 3 к Методическим рекомендациям
A3: Структура контингента воспитанников на 2023-2024 учебный год Государственное коммунальное казенное предприятие «Детский сад № 5 «Еркетай»города Степногорск при отделе образования по городу Степногорск управления образования Акмолинской области»
A4: № п/п | B4: Ф.И.О. | C4: Дата, месяц, год рождения | D4: Наименование группы | E4: Возрастная периодизация | F4: Возрастные группы | G4: сведения о зачислении в ДО | I4: сведения об отчислении из ДО
G5: Дата прибытия | H5: из них по государственному заказу (для частных ДО) | I5: Дата выбытия | J5: основание выбытия (выпуск, по заявлению, согласно ТПД и др.)
A6: 1 | B6: НУРУШЕВА АЙЛИН КАЙРАТОВНА | C6: 44422 | D6: Қоңыраугүл | E6: ='2022-2023 исправленный'!E6 -> Младший дошкольный возраст | F6: ='2022-2023 исправленный'!F6 -> От 2 лет | G6: 45155.698
A7: 2 | B7: САКЕНОВ ДИДАР АРДАКОВИЧ | C7: 44400 | D7: Қоңыраугүл | E7: ='2022-2023 исправленный'!E7 -> Младший дошкольный возраст | F7: ='2022-2023 исправленный'!F7 -> От 2 лет | G7: 45162.437 | I7: 45209.496 | J7: по заявлению
A8: 3 | B8: САГАТОВА ДАНЕЛЬ ГАЛИЕВНА | C8: 44390 | D8: Қоңыраугүл | E8: ='2022-2023 исправленный'!E8 -> Младший дошкольный возраст | F8: ='2022-2023 исправленный'!F8 -> От 2 лет | G8: 45155.418
A9: 4 | B9: ӘДІЛХАН НҰРИСЛАМ ТӨРЕХАНҰЛЫ | C9: 44372 | D9: Қоңыраугүл | E9: ='2022-2023 исправленный'!E9 -> Младший дошкольный возраст | F9: ='2022-2023 исправленный'!F9 -> От 2 лет | G9: 45146.699
A10: 5 | B10: МҰРАТБАЙ НҰРИСЛАМ НҰРСҰЛТАНҰЛЫ | C10: 44372 | D10: Қоңыраугүл | E10: ='2022-2023 исправленный'!E10 -> Младший дошкольный возраст | F10: ='2022-2023 исправленный'!F10 -> От 2 лет | G10: 45155.699
A11: 6 | B11: САҒЫНБАЙ ЗЕРЕ САҒЫНДЫҚҚЫЗЫ | C11: 44351 | D11: Қоңыраугүл | E11: ='2022-2023 исправленный'!E11 -> Младший дошкольный возраст | F11: ='2022-2023 исправленный'!F11 -> От 2 лет | G11: 45161.383
A12: 7 | B12: ЕРЛАНОВА МЕДИНА МЕЙРЖАНОВНА | C12: 44327 | D12: Қоңыраугүл | E12: ='2022-2023 исправленный'!E12 -> Младший дошкольный возраст | F12: ='2022-2023 исправленный'!F12 -> От 2 лет | G12: 45161.65
A13: 8 | B13: ҚАЙЫРГЕЛДІ НҰРКЕЛДІ МИРАСҰЛЫ | C13: 44326 | D13: Қоңыраугүл | E13: ='2022-2023 исправленный'!E13 -> Младший дошкольный возраст | F13: ='2022-2023 исправленный'!F13 -> От 2 лет | G13: 45153.499
A14: 9 | B14: ЖҰМАБЕКҚЫЗЫ ФАТИМА | C14: 44325 | D14: Қоңыраугүл | E14: ='2022-2023 исправленный'!E14 -> Младший дошкольный возраст | F14: ='2022-2023 исправленный'!F14 -> От 2 лет | G14: 45146.677
A15: 10 | B15: ЕРМЕКОВ БАТЫРХАН НУРЛАНОВИЧ | C15: 44294 | D15: Қоңыраугүл | E15: ='2022-2023 исправленный'!E15 -> Младший дошкольный возраст | F15: ='2022-2023 исправленный'!F15 -> От 2 лет | G15: 45167.445
A16: 11 | B16: БОРАНБАЙ НҰРАСЫЛ ТАЛҒАТҰЛЫ | C16: 44277 | D16: Қоңыраугүл | E16: ='2022-2023 исправленный'!E16 -> Младший дошкольный возраст | F16: ='2022-2023 исправленный'!F16 -> От 2 лет | G16: 45153.5
A17: 12 | B17: БЕКЗАН АЖАР МАРАТҚЫЗЫ | C17: 44237 | D17: Қоңыраугүл | E17: ='2022-2023 исправленный'!E17 -> Младший дошкольный возраст | F17: ='2022-2023 исправленный'!F17 -> От 2 лет | G17: 45147.619
A18: 13 | B18: ЖУМАБЕКОВА АЙАРУ АЙБЕКОВНА | C18: 44221 | D18: Қоңыраугүл | E18: ='2022-2023 исправленный'!E18 -> Младший дошкольный возраст | F18: ='2022-2023 исправленный'!F18 -> От 2 лет | G18: 45149.568
A19: 14 | B19: ЖАНАХАЕВ АЛИ ДОСЖАНОВИЧ | C19: 44206 | D19: Қоңыраугүл | E19: ='2022-2023 исправленный'!E19 -> Младший дошкольный возраст | F19: ='2022-2023 исправленный'!F19 -> От 2 лет | G19: 45182.642
A20: 15 | B20: САПАРОВ ДИЯР ТЕМИРЛАНОВИЧ | C20: 44204 | D20: Қоңыраугүл | E20: ='2022-2023 исправленный'!E20 -> Младший дошкольный возраст | F20: ='2022-2023 исправленный'!F20 -> От 2 лет | G20: 45161.644 | I20: 45239.521 | J20: по заявлению
A21: 16 | B21: СЕЙТҚАЛИ ТАСНИМ ҚУАНДЫҚҚЫЗЫ | C21: 44196 | D21: Қоңыраугүл | E21: ='2022-2023 исправленный'!E21 -> Младший дошкольный возраст | F21: ='2022-2023 исправленный'!F21 -> От 2 лет | G21: 45072.666
A22: 17 | B22: ЖУСУПОВА АСЫЛЫМ НУРМУХАМЕТОВНА | C22: 44188 | D22: Қоңыраугүл | E22: ='2022-2023 исправленный'!E22 -> Младший дошкольный возраст | F22: ='2022-2023 исправленный'!F22 -> От 2 лет | G22: 45076.564
A23: 18 | B23: БЕКТАУ ЖАНАЛИ АСЛАНҰЛЫ | C23: 44180 | D23: Қоңыраугүл | E23: ='2022-2023 исправленный'!E23 -> Младший дошкольный возраст | F23: ='2022-2023 исправленный'!F23 -> От 2 лет | G23: 45086.622
A24: 19 | B24: ӘЛІБЕКҚЫЗЫ МЕРЕЙ | C24: 44166 | D24: Қоңыраугүл | E24: ='2022-2023 исправленный'!E24 -> Младший дошкольный возраст | F24: ='2022-2023 исправленный'!F24 -> От 2 лет | G24: 45078.415
A25: 20 | B25: ДҮЙСЕНБАЙ ЖАНТӨРЕ ЖӘНІБЕКҰЛЫ | C25: 44206 | D25: Қоңыраугүл | E25: ='2022-2023 исправленный'!E25 -> Младший дошкольный возраст | F25: ='2022-2023 исправленный'!F25 -> От 2 лет | G25: 45147.515 | I25: 45190.448 | J25: по заявлению
A26: 21 | B26: МАХАНБЕТОВА НУРСАЯ НУРБЕКОВНА | C26: 44191 | D26: Қоңыраугүл | E26: ='2022-2023 исправленный'!E26 -> Младший дошкольный возраст | F26: ='2022-2023 исправленный'!F26 -> От 2 лет | G26: 45075.605 | I26: 45176.415 | J26: по заявлению
A27: 22 | B27: РУСЛАН ЕРКЕМАЙ НҰРСҰЛТАНҚЫЗЫ | C27: 44431 | D27: Қоңыраугүл | E27: ='2022-2023 исправленный'!E27 -> Младший дошкольный возраст | F27: ='2022-2023 исправленный'!F27 -> От 2 лет | G27: 45218.41
A28: 23 | B28: ТАЛҒАТ АРМАН АЛЖАНҰЛЫ | C28: 44309 | D28: Қоңыраугүл | E28: ='2022-2023 исправленный'!E28 -> Младший дошкольный возраст | F28: ='2022-2023 исправленный'!F28 -> От 2 лет | G28: 45201.441
A29: 24 | B29: ЖУМАТАЕВА ДИЛЯРА | C29: 44466 | D29: Қоңыраугүл | E29: ='2022-2023 исправленный'!E29 -> Младший дошкольный возраст | F29: ='2022-2023 исправленный'!F29 -> От 2 лет | G29: 45238.452
A30: 25 | B30: =[12]Sheet!$C$2 -> ДУБИРБАЕВА ЗЕРЕ КАНАТОВНА | C30: 44432 | D30: Карусель | E30: ='2022-2023 исправленный'!E25 -> Младший дошкольный возраст | F30: ='2022-2023 исправленный'!F25 -> От 2 лет | G30: 45170.513
A31: 26 | B31: =[12]Sheet!$C$4 -> ГЕРАСИМОВА ДАРИНА АНДРЕЕВНА | C31: 44407 | D31: Карусель | E31: ='2022-2023 исправленный'!E26 -> Младший дошкольный возраст | F31: ='2022-2023 исправленный'!F26 -> От 2 лет | G31: 45146.461
A32: 27 | B32: =[12]Sheet!C7 -> РЫМҰЛЫ ОЛЖАС | C32: 44389 | D32: Карусель | E32: ='2022-2023 исправленный'!E27 -> Младший дошкольный возраст | F32: ='2022-2023 исправленный'!F27 -> От 2 лет | G32: 45155.698
A33: 28 | B33: =[12]Sheet!C8 -> МИРОШНИЧЕНКО НИКОЛЬ ВЛАДИСЛАВОВНА | C33: 44375 | D33: Карусель | E33: ='2022-2023 исправленный'!E28 -> Младший дошкольный возраст | F33: ='2022-2023 исправленный'!F28 -> От 2 лет | G33: 45167.395
A34: 29 | B34: =[12]Sheet!C11 -> ВИНОГРАДОВА АРИНА АЛЕКСАНДРОВНА | C34: 44369 | D34: Карусель | E34: ='2022-2023 исправленный'!E29 -> Младший дошкольный возраст | F34: ='2022-2023 исправленный'!F29 -> От 2 лет | G34: 45161.66
A35: 30 | B35: =[12]Sheet!C12 -> КОНДРАТЬЕВА АРИНА АЛЕКСАНДРОВНА | C35: 44364 | D35: Карусель | E35: ='2022-2023 исправленный'!E30 -> Младший дошкольный возраст | F35: ='2022-2023 исправленный'!F30 -> От 2 лет | G35: 45148.5
A36: 31 | B36: =[12]Sheet!C14 -> МУХАМЕТЖАР МУХАММАД - АЛИ БАХТИЯРҰЛЫ | C36: 44339 | D36: Карусель | E36: ='2022-2023 исправленный'!E31 -> Младший дошкольный возраст | F36: ='2022-2023 исправленный'!F31 -> От 2 лет | G36: 45100.464
A37: 32 | B37: =[12]Sheet!C15 -> ЮНГ КИРА ДАНИИЛОВНА | C37: 44338 | D37: Карусель | E37: ='2022-2023 исправленный'!E32 -> Младший дошкольный возраст | F37: ='2022-2023 исправленный'!F32 -> От 2 лет | G37: 45100.531
A38: 33 | B38: =[12]Sheet!C16 -> ПЫШНЫЙ ИЛЬЯ КОНСТАНТИНОВИЧ | C38: 44335 | D38: Карусель | E38: ='2022-2023 исправленный'!E33 -> Младший дошкольный возраст | F38: ='2022-2023 исправленный'!F33 -> От 2 лет | G38: 45121.605 | I38: 45266.416 | J38: по заявлению
A39: 34 | B39: =[12]Sheet!C17 -> ШИТОВА ЕЛИЗАВЕТА ПАВЛОВНА | C39: 44332 | D39: Карусель | E39: ='2022-2023 исправленный'!E34 -> Младший дошкольный возраст | F39: ='2022-2023 исправленный'!F34 -> От 2 лет | G39: 45100.464
A40: 35 | B40: =[12]Sheet!C21 -> ЕРКЕН МЕДИНА МҰРАТҚЫЗЫ | C40: 44307 | D40: Карусель | E40: ='2022-2023 исправленный'!E35 -> Младший дошкольный возраст | F40: ='2022-2023 исправленный'!F35 -> От 2 лет | G40: 45106.69
A41: 36 | B41: =[12]Sheet!C22 -> ТЮРИНА ЯНА МАКСИМОВНА | C41: 44298 | D41: Карусель | E41: ='2022-2023 исправленный'!E36 -> Младший дошкольный возраст | F41: ='2022-2023 исправленный'!F36 -> От 2 лет | G41: 45112.623
A42: 37 | B42: =[12]Sheet!C25 -> ЖАРЫБАЕВА ГУЛЬХАН АСКАРОВНА | C42: 44255 | D42: Карусель | E42: ='2022-2023 исправленный'!E37 -> Младший дошкольный возраст | F42: ='2022-2023 исправленный'!F37 -> От 2 лет | G42: 45103.64
A43: 38 | B43: =[12]Sheet!C26 -> УТЕУБАЕВ АЙСУЛТАН ТАЛГАТОВИЧ | C43: 44253 | D43: Карусель | E43: ='2022-2023 исправленный'!E38 -> Младший дошкольный возраст | F43: ='2022-2023 исправленный'!F38 -> От 2 лет | G43: 45121.542
A44: 39 | B44: =[12]Sheet!C27 -> ЕННА ИЛЬЯ АНДРЕЕВИЧ | C44: 44251 | D44: Карусель | E44: ='2022-2023 исправленный'!E39 -> Младший дошкольный возраст | F44: ='2022-2023 исправленный'!F39 -> От 2 лет | G44: 45111.655
A45: 40 | B45: =[12]Sheet!C28 -> АНДРОСОВА ВАЛЕРИЯ ДМИТРИЕВНА | C45: 44248 | D45: Карусель | E45: ='2022-2023 исправленный'!E40 -> Младший дошкольный возраст | F45: ='2022-2023 исправленный'!F40 -> От 2 лет | G45: 45104.533 | I45: 45335.389 | J45: по заявлению
A46: 41 | B46: =[12]Sheet!C29 -> ПОЗДНЯКОВА АДЕЛИНА НИКОЛАЕВНА | C46: 44237 | D46: Карусель | E46: ='2022-2023 исправленный'!E41 -> Младший дошкольный возраст | F46: ='2022-2023 исправленный'!F41 -> От 2 лет | G46: 45096.645
A47: 42 | B47: =[12]Sheet!$C$32 -> КУРАСОВ ДАНИЛ ДЕНИСОВИЧ | C47: 44216 | D47: Карусель | E47: ='2022-2023 исправленный'!E42 -> Младший дошкольный возраст | F47: ='2022-2023 исправленный'!F42 -> От 2 лет | G47: 45131.617
A48: 43 | B48: =[12]Sheet!C34 -> ЖАКУПОВ ДАНИЭЛЬ ВИКТОРОВИЧ | C48: 44205 | D48: Карусель | E48: ='2022-2023 исправленный'!E43 -> Младший дошкольный возраст | F48: ='2022-2023 исправленный'!F43 -> От 2 лет | G48: 45099.694
A49: 44 | B49: =[12]Sheet!C35 -> БЕКТАС АТТИЛЬ БАУРЖАНҰЛЫ | C49: 44204 | D49: Карусель | E49: ='2022-2023 исправленный'!E44 -> Младший дошкольный возраст | F49: ='2022-2023 исправленный'!F44 -> От 2 лет | G49: 45167.649 | I49: 45342.457 | J49: по заявлению
A50: 45 | B50: СЫРБАЙ АМИНА | C50: 44377 | D50: Карусель | E50: ='2022-2023 исправленный'!E45 -> Младший дошкольный возраст | F50: ='2022-2023 исправленный'!F45 -> От 2 лет | G50: 45247.393 | I50: 45309.381 | J50: по заявлению
A51: 46 | B51: ЖАМАЛИЕВ РУСЛАН НУРЖАНОВИЧ | C51: 44466 | D51: Карусель | E51: ='2022-2023 исправленный'!E46 -> Младший дошкольный возраст | F51: ='2022-2023 исправленный'!F46 -> От 2 лет | G51: 45268.563
A52: 47 | B52: БАЛТАБАЕВА АЯЛА РУСТЕМОВНА | C52: 44525 | D52: Карусель | E52: ='2022-2023 исправленный'!E47 -> Младший дошкольный возраст | F52: ='2022-2023 исправленный'!F47 -> От 2 лет | G52: 45320.8
A53: 48 | B53: ВОРОНКИН ДМИТРИЙ АЛЕКСЕЕВИЧ | C53: 44518 | D53: Карусель | E53: ='2022-2023 исправленный'!E48 -> Младший дошкольный возраст | F53: ='2022-2023 исправленный'!F48 -> От 2 лет | G53: 45331.533
A54: 49 | B54: ҚАРЖАУ ЗАҢҒАР АҚЫЛБАЙҰЛЫ | C54: 44438 | D54: Карусель | E54: ='2022-2023 исправленный'!E49 -> Младший дошкольный возраст | F54: ='2022-2023 исправленный'!F49 -> От 2 лет | G54: 45343.605
A55: 50 | B55: ПРИХОДЬКО АЛЕКСАНДР АЛЕКСАНДРОВИЧ | C55: 44298 | D55: Карусель | E55: ='2022-2023 исправленный'!E50 -> Младший дошкольный возраст | F55: ='2022-2023 исправленный'!F50 -> От 2 лет | G55: 45350.475
A56: 51 | B56: =[12]Sheet!C53 -> САҒДАТ АСАНАЛИ ӘДІЛҰЛЫ | C56: 44113 | D56: Солнышко | E56: Средний дошкольный возраст | F56: От 3 лет | G56: 44736.371
A57: 52 | B57: =[12]Sheet!C54 -> НАРТОВА ЛИЛИЯ ГЕОРГИЕВНА | C57: 44111 | D57: Солнышко | E57: Средний дошкольный возраст | F57: От 3 лет | G57: 44762.519
A58: 53 | B58: =[12]Sheet!$C$59 -> КИМ КАРИНА ЮРЬЕВНА | C58: 44091 | D58: Солнышко | E58: Средний дошкольный возраст | F58: От 3 лет | G58: 44718.454
A59: 54 | B59: =[12]Sheet!$C$66 -> ПОНОМАРЕНКО ЕГОР СТАНИСЛАВОВИЧ | C59: 44063 | D59: Солнышко | E59: Средний дошкольный возраст | F59: От 3 лет | G59: 44736.375
A60: 55 | B60: =[12]Sheet!$C$72 -> ИВАНОВ МИХАИЛ НИКИТИЧ | C60: 44036 | D60: Солнышко | E60: Средний дошкольный возраст | F60: От 3 лет | G60: 44718.493
A61: 56 | B61: =[12]Sheet!$C$76 -> ПЕДАН ЮЛИЯ АНДРЕЕВНА | C61: 44026 | D61: Солнышко | E61: Средний дошкольный возраст | F61: От 3 лет | G61: 44867.426
A62: 57 | B62: =[12]Sheet!$C$83 -> СЕЙТКАНОВ ТЕМИРТАС ЕРЖАНОВИЧ | C62: 43993 | D62: Солнышко | E62: Средний дошкольный возраст | F62: От 3 лет | G62: 45162.498
A63: 58 | B63: =[12]Sheet!C86 -> ЖАНАТОВ АЛИМХАН КУАТОВИЧ | C63: 43986 | D63: Солнышко | E63: Средний дошкольный возраст | F63: От 3 лет | G63: 45184.505
A64: 59 | B64: =[12]Sheet!C87 -> ФИСУН ДАРЬЯ АРТЁМОВНА | C64: 43979 | D64: Солнышко | E64: Средний дошкольный возраст | F64: От 3 лет | G64: 44736.378
A65: 60 | B65: =[12]Sheet!$C$94 -> ДУШКИНА АЛИСА ВИКТОРОВНА | C65: 43951 | D65: Солнышко | E65: Средний дошкольный возраст | F65: От 3 лет | G65: 44867.318
A66: 61 | B66: =[12]Sheet!$C$97 -> МАЛЫШЕВА ПОЛИНА СЕРГЕЕВНА | C66: 43937 | D66: Солнышко | E66: Средний дошкольный возраст | F66: От 3 лет | G66: 44736.366
A67: 62 | B67: =[12]Sheet!C100 -> ВАЙМЕР СОФЬЯ СЕРГЕЕВНА | C67: 43915 | D67: Солнышко | E67: Средний дошкольный возраст | F67: От 3 лет | G67: 44716.293
A68: 63 | B68: =[12]Sheet!C101 -> МАРИНИЧЕВ ДМИТРИЙ ДМИТРИЕВИЧ | C68: 43915 | D68: Солнышко | E68: Средний дошкольный возраст | F68: От 3 лет | G68: 44716.455
A69: 64 | B69: =[12]Sheet!$C$103 -> КОМИССАРОВА ДИАНА ДМИТРИЕВНА | C69: 43895 | D69: Солнышко | E69: Средний дошкольный возраст | F69: От 3 лет | G69: 44870.722
A70: 65 | B70: =[12]Sheet!C105 -> АЛИМКАЙДАРОВ БАХТИЯР КАНАТОВИЧ | C70: 43881 | D70: Солнышко | E70: Средний дошкольный возраст | F70: От 3 лет | G70: 44718.684
A71: 66 | B71: =[12]Sheet!C106 -> МУХАМЕДИНА АЙЛИН АЯЗБИЕВНА | C71: 43875 | D71: Солнышко | E71: Средний дошкольный возраст | F71: От 3 лет | G71: 44718.652
A72: 67 | B72: =[12]Sheet!C109 -> ПЕТРОВ НИКОЛАЙ НИКОЛАЕВИЧ | C72: 43860 | D72: Солнышко | E72: Средний дошкольный возраст | F72: От 3 лет | G72: 44718.612
A73: 68 | B73: =[12]Sheet!C110 -> ЧУЛАКОВ ТАИР РУСЛАНОВИЧ | C73: 43857 | D73: Солнышко | E73: Средний дошкольный возраст | F73: От 3 лет | G73: 44713.55
A74: 69 | B74: =[12]Sheet!C111 -> ЧЕРКАШИНА СОФИЯ АНТОНОВНА | C74: 43853 | D74: Солнышко | E74: Средний дошкольный возраст | F74: От 3 лет | G74: 44718.583
A75: 70 | B75: =[12]Sheet!C113 -> СТОРОЖЕВА СОФИЯ ЕВГЕНЬЕВНА | C75: 43834 | D75: Солнышко | E75: Средний дошкольный возраст | F75: От 3 лет | G75: 44716.698
A76: 71 | B76: =[12]Sheet!C114 -> КОРБМАХЕР РОДИОН ДМИТРИЕВИЧ | C76: 43834 | D76: Солнышко | E76: Средний дошкольный возраст | F76: От 3 лет | G76: 44870.452
A77: 72 | B77: САНДЫБАЙ ЕСЕН АБАЙҰЛЫ | C77: 43913 | D77: Солнышко | E77: Средний дошкольный возраст | F77: От 3 лет | G77: 45223.436 | I77: 45385.53 | J77: по заявлению
A78: 73 | B78: ЛОГВИНЕНКО МАРИЯ АЛЕКСАНДРОВНА | C78: 44173 | D78: Балапан | E78: Средний дошкольный возраст | F78: От 3 лет | G78: 44746.761
A79: 74 | B79: ЖҰМАЖАН МЕДИНА АСАНҚЫЗЫ | C79: 44162 | D79: Балапан | E79: Средний дошкольный возраст | F79: От 3 лет | G79: 44719.678
A80: 75 | B80: ҚАЗБЕК АЯЛЫМ ТІЛЕКТЕСҚЫЗЫ | C80: 44158 | D80: Балапан | E80: Средний дошкольный возраст | F80: От 3 лет | G80: 44951.679
A81: 76 | B81: МАМЫРБЕКОВ ДИАС НУРСУЛТАНОВИЧ | C81: 44148 | D81: Балапан | E81: Средний дошкольный возраст | F81: От 3 лет | G81: 45014.686
A82: 77 | B82: НҰРҒАЛИ НАРГИЗА РАМАЗАНҚЫЗЫ | C82: 44137 | D82: Балапан | E82: Средний дошкольный возраст | F82: От 3 лет | G82: 45075.605 | I82: 45231.595 | J82: по заявлению
A83: 78 | B83: КАЛИБЕКОВ ИЛЬЯС НУРБЕКОВИЧ | C83: 44102 | D83: Балапан | E83: Средний дошкольный возраст | F83: От 3 лет | G83: 44743.677
A84: 79 | B84: АЛДАБЕРГЕН АЙЫМ ҰЛАНҚЫЗЫ | C84: 44090 | D84: Балапан | E84: Средний дошкольный возраст | F84: От 3 лет | G84: 44889.621
A85: 80 | B85: БУХАРБАЕВ МАРЛЕН ЖАРАСОВИЧ | C85: 44082 | D85: Балапан | E85: Средний дошкольный возраст | F85: От 3 лет | G85: 45096.658 | I85: 45411.375 | J85: по заявлению
A86: 81 | B86: ҚАНАПИЯ ІДРІС ҚАНАТҰЛЫ | C86: 44079 | D86: Балапан | E86: Средний дошкольный возраст | F86: От 3 лет | G86: 45078.414 | I86: 45201.466 | J86: по заявлению
A87: 82 | B87: БОРАНБАЕВА ТОМИРИС САМАТОВНА | C87: 44070 | D87: Балапан | E87: Средний дошкольный возраст | F87: От 3 лет | G87: 44882.466
A88: 83 | B88: ШЕРӘЛІ МЕЙІРБЕК МҰРАТҰЛЫ | C88: 44052 | D88: Балапан | E88: Средний дошкольный возраст | F88: От 3 лет | G88: 44764.394
A89: 84 | B89: САБЫРОВ АЛИМЖАН НАРИМАНОВИЧ | C89: 44033 | D89: Балапан | E89: Средний дошкольный возраст | F89: От 3 лет | G89: 44719.488
A90: 85 | B90: ҚУАНЫШ АЙМИРА САМАТҚЫЗЫ | C90: 44025 | D90: Балапан | E90: Средний дошкольный возраст | F90: От 3 лет | G90: 44718.714
A91: 86 | B91: САРСЕМБАЙ НҰРАСЫЛ АСЕТҰЛЫ | C91: 44011 | D91: Балапан | E91: Средний дошкольный возраст | F91: От 3 лет | G91: 44726.518
A92: 87 | B92: ЖАСЛАН АЛИЯР ДИЯРҰЛЫ | C92: 44005 | D92: Балапан | E92: Средний дошкольный возраст | F92: От 3 лет | G92: 45071.389
A93: 88 | B93: СЕРІК АДИЯ МЕЙРАМБЕКҚЫЗЫ | C93: 44000 | D93: Балапан | E93: Средний дошкольный возраст | F93: От 3 лет | G93: 44944.469
A94: 89 | B94: ОРАЗХАНОВ АМИРХАН КУАНЫШЕВИЧ | C94: 43997 | D94: Балапан | E94: Средний дошкольный возраст | F94: От 3 лет | G94: 44726.444
A95: 90 | B95: ГИЗЗАТОВ ТАЙМАС ЖАНАТОВИЧ | C95: 43992 | D95: Балапан | E95: Средний дошкольный возраст | F95: От 3 лет | G95: 45064.685
A96: 91 | B96: НҰРБЕКҚЫЗЫ ДАНА | C96: 43991 | D96: Балапан | E96: Средний дошкольный возраст | F96: От 3 лет | G96: 44718.617
A97: 92 | B97: ИСКАКОВ АЛИМ АЗАМАТОВИЧ | C97: 43978 | D97: Балапан | E97: Средний дошкольный возраст | F97: От 3 лет | G97: 44719.444
A98: 93 | B98: БАЙТАС ДАРИЯ СЕИЛХАНҚЫЗЫ | C98: 43970 | D98: Балапан | E98: Средний дошкольный возраст | F98: От 3 лет | G98: 44726.56
... A109: 104 | B109: ҚАЗБЕК АЖАР ОЛЖАСҚЫЗЫ | C109: 44145 | D109: Ягодка | E109: Средний дошкольный возраст | F109: От 3 лет | G109: 45135.449
A110: 105 | B110: МИРОШНИЧЕНКО ТИМОФЕЙ ДМИТРИЕВИЧ | C110: 44143 | D110: Ягодка | E110: Средний дошкольный возраст | F110: От 3 лет | G110: 45092.728 | I110: 45201.468 | J110: по заявлению
A111: 106 | B111: ПОКОЕВ МАРК АЛЕКСАНДРОВИЧ | C111: 44130 | D111: Ягодка | E111: Средний дошкольный возраст | F111: От 3 лет | G111: 45085.568
...
