Workbook

Sheet П 3
F2: Приложение 3 к Методическим рекомендациям
B4: Структура контингента воспитанников ____________________________________________________________________________________________ (наименование организации образования)
B6: № п/п | C6: Ф.И.О. | D6: Дата, месяц, год рождения | E6: Наименование группы | F6: Возрастная периодизация | G6: Возрастные группы | H6: сведения о зачислении в ДО | J6: сведения об отчислении из ДО
H7: Дата прибытия | I7: из них по государственному заказу (для частных ДО) | J7: Дата выбытия | K7: основание выбытия (выпуск, по заявлению, согласно ТПД и др.)
B11: Руководитель организации образования ________________ ________________________________
C12: (подпись) Ф.И.О. (при наличии)

Sheet 2020-2021
E1: Приложение 3 к Методическим рекомендациям
A3: Структура контингента воспитанников на 2020-2021 учебный год Государственное коммунальное казенное предприятие «Детский сад № 5 «Еркетай» города Степногорск при отделе образования по городу Степногорск управления образования Акмолинской области»
A4: № п/п | B4: Ф.И.О. | C4: Дата, месяц, год рождения | D4: Наименование группы | E4: Возрастная периодизация | F4: Возрастные группы | G4: сведения о зачислении в ДО | I4: сведения об отчислении из ДО
G5: Дата прибытия | H5: из них по государственному заказу (для частных ДО) | I5: Дата выбытия | J5: основание выбытия (выпуск, по заявлению, согласно ТПД и др.)
A6: 1 | B6: Душкин Артём Викторович | C6: 43258 | D6: «Радуга» | E6: Младший дошкольный возраст | F6: От 2 лет | G6: 44078.572
A7: 2 | B7: Заикина Маргарита Александровна | C7: 43172 | D7: «Радуга» | E7: Младший дошкольный возраст | F7: От 2 лет | G7: 44060.413
A8: 3 | B8: Курмангалиев Асан Ерланович | C8: 43141 | D8: «Радуга» | E8: Младший дошкольный возраст | F8: От 2 лет | G8: 44061 | I8: 44427 | J8: Заявление родителей
A9: 4 | B9: Комиссаров Никита Владимирович | C9: 43308 | D9: «Радуга» | E9: Младший дошкольный возраст | F9: От 2 лет | G9: 44081.412
A10: 5 | B10: Кожахметова Аиша Нурлановна | C10: 43325 | D10: «Радуга» | E10: Младший дошкольный возраст | F10: От 2 лет | G10: 44081.589
A11: 6 | B11: Лукпанова Айзере Еркеновна | C11: 43264 | D11: «Радуга» | E11: Младший дошкольный возраст | F11: От 2 лет | G11: 44046.477
A12: 7 | B12: Покоева Анастасия Геннадьевна | C12: 43215 | D12: «Радуга» | E12: Младший дошкольный возраст | F12: От 2 лет | G12: 44007.433
A13: 8 | B13: Сандыбаева Еркежан Кунанбаевна | C13: 43111 | D13: «Радуга» | E13: Младший дошкольный возраст | F13: От 2 лет | G13: 43993.424
A14: 9 | B14: Пастухов Велес Алексеевич | C14: 43200 | D14: «Радуга» | E14: Младший дошкольный возраст | F14: От 2 лет | G14: 44090 | I14: 44502 | J14: Заявление родителей
A15: 10 | B15: Аксёнов Дмитрий Владимирович | C15: 43374 | D15: «Радуга» | E15: Младший дошкольный возраст | F15: От 2 лет | G15: 44109.588
A16: 11 | B16: Аманкелді Арлан Серікұлы | C16: 43102 | D16: «Радуга» | E16: Младший дошкольный возраст | F16: От 2 лет | G16: 44109.678
A17: 12 | B17: Аубакиров Алдияр Аскарович | C17: 43313 | D17: «Радуга» | E17: Младший дошкольный возраст | F17: От 2 лет | G17: 44167.476
A18: 13 | B18: Ахметбеков Арлан Маратович | C18: 43433 | D18: «Радуга» | E18: Младший дошкольный возраст | F18: От 2 лет | G18: 44160 | I18: 44532 | J18: Заявление родителей
A19: 14 | B19: Қайрат Жания Болатқызы | C19: 43406 | D19: «Радуга» | E19: Младший дошкольный возраст | F19: От 2 лет | G19: 44214 | I19: 44461 | J19: Заявление родителей
A20: 15 | B20: Миронова Валерия Александровна | C20: 43447 | D20: «Радуга» | E20: Младший дошкольный возраст | F20: От 2 лет | G20: 44218.57
A21: 16 | B21: Тоқтар Айсана Әділханқызы | C21: 43225 | D21: «Радуга» | E21: Младший дошкольный возраст | F21: От 2 лет | G21: 44259.561
A22: 17 | B22: Самарханова Айым Куанышевна | C22: 43315 | D22: «Радуга» | E22: Младший дошкольный возраст | F22: От 2 лет | G22: 44228.611
A23: 18 | B23: Оразханов Тамерлан Куанышович | C23: 43219 | D23: «Радуга» | E23: Младший дошкольный возраст | F23: От 2 лет | G23: 44298.397
A24: 19 | B24: Будникова София Николаевна | C24: 43389 | D24: «Радуга» | E24: Младший дошкольный возраст | F24: От 2 лет | G24: 44257.545
A25: 20 | B25: Пушкарёв Артём Сергеевич | C25: 43225 | D25: «Радуга» | E25: Младший дошкольный возраст | F25: От 2 лет | G25: 44273.606
A26: 21 | B26: Сағынбай Мәлика Сағындыққызы | C26: ='[1]Выбывшие (8)'!$G$623 -> 43223 | D26: «Радуга» | E26: Младший дошкольный возраст | F26: От 2 лет | G26: 44084 | I26: 44439 | J26: =$J$19 -> Заявление родителей
A27: 22 | B27: Қайнар Рания Набиқызы | C27: ='[1]Выбывшие (8)'!$G$655 -> 43323 | D27: «Радуга» | E27: Младший дошкольный возраст | F27: От 2 лет | G27: 44298 | I27: 44474 | J27: =$J$19 -> Заявление родителей
A28: 23 | B28: Гойда Гордей Алексеевич | C28: ='[1]Выбывшие (8)'!$G$1049 -> 43224 | D28: «Радуга» | E28: Младший дошкольный возраст | F28: От 2 лет | G28: 44095 | I28: 44104 | J28: =$J$19 -> Заявление родителей
A29: 24 | B29: Амантұр Аниса Әлсейітқызы | C29: ='[1]Выбывшие (8)'!$G$1053 -> 43303 | D29: «Радуга» | E29: Младший дошкольный возраст | F29: От 2 лет | G29: 44130 | I29: 44173 | J29: =$J$19 -> Заявление родителей
A30: 25 | B30: Овчинникова Есения Ярославовна | C30: ='[1]Выбывшие (8)'!$G$1056 -> 43113 | D30: «Радуга» | E30: Младший дошкольный возраст | F30: От 2 лет | G30: 44242 | I30: 44377 | J30: =$J$19 -> Заявление родителей
A31: 26 | B31: Абай Ляйсан Саяткызы | C31: 43448 | D31: «Ромашка» | E31: Младший дошкольный возраст | F31: От 2 лет | G31: 44228.584
A32: 27 | B32: Абирова Жансая Жанатовна | C32: 43349 | D32: «Ромашка» | E32: Младший дошкольный возраст | F32: От 2 лет | G32: 44237.645
A33: 28 | B33: Адкина Ульяна Павловна | C33: 43346 | D33: «Ромашка» | E33: Младший дошкольный возраст | F33: От 2 лет | G33: 44138.414
A34: 29 | B34: Войтенко Матвей Константинович | C34: 43186 | D34: «Ромашка» | E34: Младший дошкольный возраст | F34: От 2 лет | G34: 44000.374
A35: 30 | B35: Воронкин Виктор Алексеевич | C35: 43132 | D35: «Ромашка» | E35: Младший дошкольный возраст | F35: От 2 лет | G35: 44091.634
A36: 31 | B36: Гейдарли Аснат Ланыч Гызы | C36: 43244 | D36: «Ромашка» | E36: Младший дошкольный возраст | F36: От 2 лет | G36: 44007.458
A37: 32 | B37: Габайдуллина Софья Тимуровна | C37: 43237 | D37: «Ромашка» | E37: Младший дошкольный возраст | F37: От 2 лет | G37: 44041.512
A38: 33 | B38: Дюсембина Сабина Армановна | C38: 43132 | D38: «Ромашка» | E38: Младший дошкольный возраст | F38: От 2 лет | G38: 44064.468
A39: 34 | B39: Жұмаш Ислам Мейрамұлы | C39: 43319 | D39: «Ромашка» | E39: Младший дошкольный возраст | F39: От 2 лет | G39: 44083.568
A40: 35 | B40: Қайролла Арлан Айдынұлы | C40: 43189 | D40: «Ромашка» | E40: Младший дошкольный возраст | F40: От 2 лет | G40: 44063.613
A41: 36 | B41: Қанапия Айсана Қанатқызы | C41: 43171 | D41: «Ромашка» | E41: Младший дошкольный возраст | F41: От 2 лет | G41: 27.01.2022, 10:00 | I41: 44508.413 | J41: Заявление родителей
...

Sheet 2021-2022
E1: Приложение 3 к Методическим рекомендациям
A3: Структура контингента воспитанников на 2021-2022 учебный год Государственное коммунальное казенное предприятие «Детский сад № 5 «Еркетай» города Степногорск при отделе образования по городу Степногорск управления образования Акмолинской области»
A4: № п/п | B4: Ф.И.О. | C4: Дата, месяц, год рождения | D4: Наименование группы | E4: Возрастная периодизация | F4: Возрастные группы | G4: сведения о зачислении в ДО | I4: сведения об отчислении из ДО
G5: Дата прибытия | H5: из них по государственному заказу (для частных ДО) | I5: Дата выбытия | J5: основание выбытия (выпуск, по заявлению, согласно ТПД и др.)
A6: 1 | B6: Равильев Али Султанович | C6: 43540 | D6: « Карусель» | E6: Младший дошкольный возраст | F6: От 2 лет | G6: 44351
A7: 2 | B7: Кашневич Сергей Русланович | C7: 43572 | D7: « Карусель» | E7: Младший дошкольный возраст | F7: От 2 лет | G7: 44356.514
A8: 3 | B8: Гришель Дэниель Витальевич | C8: 43636 | D8: « Карусель» | E8: Младший дошкольный возраст | F8: От 2 лет | G8: 44356.723 | I8: 44713.414 | J8: Заявление родителей
A9: 4 | B9: Тагаймуратова Алла Талгатовна | C9: 43808 | D9: « Карусель» | E9: Младший дошкольный возраст | F9: От 2 лет | G9: 44504.416
A10: 5 | B10: Кирсанова Ника Сергеевна | C10: 43759 | D10: « Карусель» | E10: Младший дошкольный возраст | F10: От 2 лет | G10: 44361.449 | I10: 44790.481 | J10: Заявление родителей
A11: 6 | B11: Куприк Мирон Сергеевич | C11: 43640 | D11: « Карусель» | E11: Младший дошкольный возраст | F11: От 2 лет | G11: 44361.528 | I11: 44739.557 | J11: Заявление родителей
A12: 7 | B12: Тимурлан Эсмина Қизатқызы | C12: 43512 | D12: « Карусель» | E12: Младший дошкольный возраст | F12: От 2 лет | G12: 44362.481
A13: 8 | B13: Токсеитова Ясмин Ануаровна | C13: 43767 | D13: « Карусель» | E13: Младший дошкольный возраст | F13: От 2 лет | G13: 44363.582
A14: 9 | B14: Шипачев Владимир Владимирович | C14: 43559 | D14: « Карусель» | E14: Младший дошкольный возраст | F14: От 2 лет | G14: 44364.66
A15: 10 | B15: Горбенко Артём Александрович | C15: 43628 | D15: « Карусель» | E15: Младший дошкольный возраст | F15: От 2 лет | G15: 44365.463
A16: 11 | B16: Пономарева София Алексеевна | C16: 43589 | D16: « Карусель» | E16: Младший дошкольный возраст | F16: От 2 лет | G16: 44368.622
A17: 12 | B17: Нартов Давид Георгиевич | C17: 43560 | D17: « Карусель» | E17: Младший дошкольный возраст | F17: От 2 лет | G17: 44369.582
A18: 13 | B18: Сулейменова Диана Шамильевна | C18: 43635 | D18: « Карусель» | E18: Младший дошкольный возраст | F18: От 2 лет | G18: 44372.57
A19: 14 | B19: Бейсембаева Малика Жанатовна | C19: 43517 | D19: « Карусель» | E19: Младший дошкольный возраст | F19: От 2 лет | G19: 44377.689
A20: 15 | B20: Черненко Милена Сергеевна | C20: 43498 | D20: « Карусель» | E20: Младший дошкольный возраст | F20: От 2 лет | G20: 44385.597
A21: 16 | B21: Крылышкин Евгений Артемович | C21: 43732 | D21: « Карусель» | E21: Младший дошкольный возраст | F21: От 2 лет | G21: 44396.497
A22: 17 | B22: Курочкин Андрей Дмитриевич | C22: 43588 | D22: « Карусель» | E22: Младший дошкольный возраст | F22: От 2 лет | G22: 44404.413
A23: 18 | B23: Семенова Серафима Дмитриевна | C23: 43726 | D23: « Карусель» | E23: Младший дошкольный возраст | F23: От 2 лет | G23: 44404.414
... A25: 20 | B25: Воронкина Виктория Алексеевна | C25: 43612 | D25: « Карусель» | E25: Младший дошкольный возраст | F25: От 2 лет | G25: 44426.522
A26: 21 | B26: Бекишев Ансар Аскарович | C26: 43641 | D26: « Карусель» | E26: Младший дошкольный возраст | F26: От 2 лет | G26: 20.01.2022, 11:55 | I26: 44767 | J26: Заявление родителей
A27: 22 | B27: Жексенбай Арыслан Нұрланұлы | C27: 43631 | D27: « Карусель» | E27: Младший дошкольный возраст | F27: От 2 лет | G27: 44522.496
A28: 23 | B28: Аронец Арина Дмитриевна | C28: 43831 | D28: « Карусель» | E28: Младший дошкольный возраст | F28: От 2 лет | G28: 44573.439 | I28: 44750.452 | J28: Заявление родителей
A29: 24 | B29: Жумабаева Аяжан Бауржановна | C29: 43775 | D29: « Карусель» | E29: Младший дошкольный возраст | F29: От 2 лет | G29: 44553.444
A30: 25 | B30: Лазько Анна Евгеньевна | C30: 43592 | D30: « Карусель» | E30: Младший дошкольный возраст | F30: От 2 лет | G30: 44600.636
A31: 26 | B31: Котельник Эмиль Андреевич | C31: 43762 | D31: « Карусель» | E31: Младший дошкольный возраст | F31: От 2 лет | G31: 44552.426
A32: 27 | B32: Асылбек Алдияр Айбекұлы | C32: 43633 | D32: «Қызғалдақ» | E32: Младший дошкольный возраст | F32: От 2 лет | G32: 44356.739
A33: 28 | B33: Назиолла Жан Баянұлы | C33: 43694 | D33: «Қызғалдақ» | E33: Младший дошкольный возраст | F33: От 2 лет | G33: 44358.482
A34: 29 | B34: Жумабекова Айзере Айбековна | C34: 43614 | D34: «Қызғалдақ» | E34: Младший дошкольный возраст | F34: От 2 лет | G34: 44365.561
A35: 30 | B35: Жанпеисова Самира Саматовна | C35: 43751 | D35: «Қызғалдақ» | E35: Младший дошкольный возраст | F35: От 2 лет | G35: 44368.669
A36: 31 | B36: Жаксылыков Даниэль Даниярович | C36: 43602 | D36: «Қызғалдақ» | E36: Младший дошкольный возраст | F36: От 2 лет | G36: 44375.61 | I36: 44771.434 | J36: Заявление родителей
A37: 32 | B37: Құлбай Әли Байрамгелдіұлы | C37: 43525 | D37: «Қызғалдақ» | E37: Младший дошкольный возраст | F37: От 2 лет | G37: 44414.498
A38: 33 | B38: Болат Ноян Рүстемұлы | C38: 43753 | D38: «Қызғалдақ» | E38: Младший дошкольный возраст | F38: От 2 лет | G38: 44393.702
A39: 34 | B39: Базарбай Әмина Нұрланқызы | C39: 43746 | D39: «Қызғалдақ» | E39: Младший дошкольный возраст | F39: От 2 лет | G39: 44424.393
A40: 35 | B40: Қалымтай Келдібек Бауржанұлы | C40: 43677 | D40: «Қызғалдақ» | E40: Младший дошкольный возраст | F40: От 2 лет | G40: 44425.684 | I40: 44715.594 | J40: Заявление родителей
A41: 36 | B41: Алиева Айлин Алибековна | C41: 43731 | D41: «Қызғалдақ» | E41: Младший дошкольный возраст | F41: От 2 лет | G41: 44425.692
A42: 37 | B42: Шайзада Медина Айболқызы | C42: 43501 | D42: «Қызғалдақ» | E42: Младший дошкольный возраст | F42: От 2 лет | G42: 44426.557
...

Sheet 2022-2023 исправленный
E1: Приложение 3 к Методическим рекомендациям
A3: Структура контингента воспитанников на 2022-2023 учебный год Государственное коммунальное казенное предприятие «Детский сад № 5 «Еркетай» города Степногорск при отделе образования по городу Степногорск управления образования Акмолинской области»
A4: № п/п | B4: Ф.И.О. | C4: Дата, месяц, год рождения | D4: Наименование группы | E4: Возрастная периодизация | F4: Возрастные группы | G4: сведения о зачислении в ДО | I4: сведения об отчислении из ДО
G5: Дата прибытия | H5: из них по государственному заказу (для частных ДО) | I5: Дата выбытия | J5: основание выбытия (выпуск, по заявлению, согласно ТПД и др.)
A6: 1 | B6: ВАСИЛЬЕВ ВЛАДИСЛАВ ДЕНИСОВИЧ | C6: 43877 | D6: Солнышко | E6: Младший дошкольный возраст | F6: От 2 лет | G6: 2022-06-02T00:00:00 | I6: ="2022-11-14T00:00:00" -> 2022-11-14T00:00:00 | J6: по заявлению
A7: 2 | B7: ЧУЛАКОВ ТАИР РУСЛАНОВИЧ | C7: 43857 | D7: Солнышко | E7: Младший дошкольный возраст | F7: От 2 лет | G7: 2022-06-03T00:00:00
A8: 3 | B8: СМИРНОВ ДЕМИД ИВАНОВИЧ | C8: 43905 | D8: Солнышко | E8: Младший дошкольный возраст | F8: От 2 лет | G8: 2022-06-06T00:00:00
A9: 4 | B9: СТОРОЖЕВА СОФИЯ ЕВГЕНЬЕВНА | C9: 43834 | D9: Солнышко | E9: Младший дошкольный возраст | F9: От 2 лет | G9: 2022-06-06T00:00:00
A10: 5 | B10: МАРИНИЧЕВ ДМИТРИЙ ДМИТРИЕВИЧ | C10: 43915 | D10: Солнышко | E10: Младший дошкольный возраст | F10: От 2 лет | G10: 2022-06-06T00:00:00
A11: 6 | B11: ИВАНОВ МИХАИЛ НИКИТИЧ | C11: 44036 | D11: Солнышко | E11: Младший дошкольный возраст | F11: От 2 лет | G11: 2022-06-06T00:00:00
A12: 7 | B12: КИМ КАРИНА ЮРЬЕВНА | C12: 44091 | D12: Солнышко | E12: Младший дошкольный возраст | F12: От 2 лет | G12: 2022-06-06T00:00:00
A13: 8 | B13: ТУМАНОВ МАТВЕЙ ВАДИМОВИЧ | C13: 43836 | D13: Солнышко | E13: Младший дошкольный возраст | F13: От 2 лет | G13: 2022-06-06T00:00:00
A14: 9 | B14: ВАЙМЕР СОФЬЯ СЕРГЕЕВНА | C14: 43915 | D14: Солнышко | E14: Младший дошкольный возраст | F14: От 2 лет | G14: 2022-06-06T00:00:00
A15: 10 | B15: ПЕТРОВ НИКОЛАЙ НИКОЛАЕВИЧ | C15: 43860 | D15: Солнышко | E15: Младший дошкольный возраст | F15: От 2 лет | G15: 2022-06-06T00:00:00
A16: 11 | B16: АЛИМКАЙДАРОВ БАХТИЯР КАНАТОВИЧ | C16: 43881 | D16: Солнышко | E16: Младший дошкольный возраст | F16: От 2 лет | G16: 2022-06-06T00:00:00
A17: 12 | B17: ШИЛО МАРИЯ-СТЕФАНИЯ ДЕНИСОВНА | C17: 44167 | D17: Солнышко | E17: Младший дошкольный возраст | F17: От 2 лет | G17: 2022-06-07T00:00:00
A18: 13 | B18: МУХАМЕДИНА АЙЛИН АЯЗБИЕВНА | C18: 43875 | D18: Солнышко | E18: Младший дошкольный возраст | F18: От 2 лет | G18: 2022-06-07T00:00:00
... A20: 15 | B20: ПОНОМАРЕНКО ЕГОР СТАНИСЛАВОВИЧ | C20: 44063 | D20: Солнышко | E20: Младший дошкольный возраст | F20: От 2 лет | G20: 2022-06-24T00:00:00
A21: 16 | B21: ГАБАЙДУЛИН РАТМИР ТИМУРОВИЧ | C21: 43946 | D21: Солнышко | E21: Младший дошкольный возраст | F21: От 2 лет | G21: 2022-06-24T00:00:00 | I21: ='[4]Выбывшие (7)'!$AB$1124 -> 2022-10-10T00:00:00 | J21: по заявлению
A22: 17 | B22: МАЛЫШЕВА ПОЛИНА СЕРГЕЕВНА | C22: 43937 | D22: Солнышко | E22: Младший дошкольный возраст | F22: От 2 лет | G22: 2022-06-24T00:00:00
A23: 18 | B23: САҒДАТ АСАНАЛИ ӘДІЛҰЛЫ | C23: 44113 | D23: Солнышко | E23: Младший дошкольный возраст | F23: От 2 лет | G23: 2022-06-24T00:00:00
A24: 19 | B24: ФИСУН ДАРЬЯ АРТЁМОВНА | C24: 43979 | D24: Солнышко | E24: Младший дошкольный возраст | F24: От 2 лет | G24: 2022-06-24T00:00:00
A25: 20 | B25: НАРТОВА ЛИЛИЯ ГЕОРГИЕВНА | C25: 44111 | D25: Солнышко | E25: Младший дошкольный возраст | F25: От 2 лет | G25: 2022-07-21T00:00:00
A26: 21 | B26: ='[5]Выгрузка НОБД на конец октября '!$H$217 -> ГНАТЮК ЕГОР АЛЕКСЕЕВИЧ | C26: ='[5]Выгрузка НОБД на конец октября '!$G$217 -> 44097 | D26: Солнышко | E26: Младший дошкольный возраст | F26: От 2 лет | G26: ='[5]Выгрузка НОБД на конец октября '!$R$217 -> 2022-10-14T00:00:00
A27: 22 | B27: ='[6]Выгрузка НОБД за ноябрь 2022'!H48 -> ДУШКИНА АЛИСА ВИКТОРОВНА | C27: ='[6]Выгрузка НОБД за ноябрь 2022'!G48 -> 43951 | D27: Солнышко | E27: Младший дошкольный возраст | F27: От 2 лет | G27: ='[6]Выгрузка НОБД за ноябрь 2022'!R48 -> 2022-11-07T00:00:00
A28: 23 | B28: ='[6]Выгрузка НОБД за ноябрь 2022'!H49 -> КОРБМАХЕР РОДИОН ДМИТРИЕВИЧ | C28: ='[6]Выгрузка НОБД за ноябрь 2022'!G49 -> 43834 | D28: Солнышко | E28: Младший дошкольный возраст | F28: От 2 лет | G28: ='[6]Выгрузка НОБД за ноябрь 2022'!R49 -> 2022-11-07T00:00:00
A29: 24 | B29: ='[6]Выгрузка НОБД за ноябрь 2022'!$H$226 -> МИШИНА ДИАНА ДМИТРИЕВНА | C29: ='[6]Выгрузка НОБД за ноябрь 2022'!$G$226 -> 43895 | D29: Солнышко | E29: Младший дошкольный возраст | F29: От 2 лет | G29: ='[6]Выгрузка НОБД за ноябрь 2022'!$R$226 -> 2022-11-10T00:00:00
A30: 25 | B30: ='[6]Выгрузка НОБД за ноябрь 2022'!H230 -> АТАШЕВ РИЗВАН РУСЛАНОВИЧ | C30: ='[6]Выгрузка НОБД за ноябрь 2022'!G230 -> 43910 | D30: Солнышко | E30: Младший дошкольный возраст | F30: От 2 лет | G30: ='[6]Выгрузка НОБД за ноябрь 2022'!R230 -> 2022-11-07T00:00:00 | I30: 45001 | J30: по заявлению
A31: 26 | B31: ='[6]Выгрузка НОБД за ноябрь 2022'!H231 -> ПЕДАН ЮЛИЯ АНДРЕЕВНА | C31: ='[6]Выгрузка НОБД за ноябрь 2022'!G231 -> 44026 | D31: Солнышко | E31: Младший дошкольный возраст | F31: От 2 лет | G31: ='[6]Выгрузка НОБД за ноябрь 2022'!R231 -> 2022-11-07T00:00:00
A32: 27 | B32: ЛОГВИНЕНКО МАРИЯ АЛЕКСАНДРОВНА | C32: 44173 | D32: Солнышко | E32: Младший дошкольный возраст | F32: От 2 лет | G32: 2022-07-04T00:00:00
A33: 28 | B33: АСКАРОВ АГЛАН АЛИЕВИЧ | C33: 43843 | D33: Балапан | E33: Младший дошкольный возраст | F33: От 2 лет | G33: 2022-06-01T00:00:00
A34: 29 | B34: НҰРБЕКҚЫЗЫ ДАНА | C34: 43991 | D34: Балапан | E34: Младший дошкольный возраст | F34: От 2 лет | G34: 2022-06-06T00:00:00
A35: 30 | B35: ҚУАНЫШ АЙМИРА САМАТҚЫЗЫ | C35: 44025 | D35: Балапан | E35: Младший дошкольный возраст | F35: От 2 лет | G35: 2022-06-06T00:00:00
A36: 31 | B36: ИСКАКОВ АЛИМ АЗАМАТОВИЧ | C36: 43978 | D36: Балапан | E36: Младший дошкольный возраст | F36: От 2 лет | G36: 2022-06-07T00:00:00
A37: 32 | B37: САБЫРОВ АЛИМЖАН НАРИМАНОВИЧ | C37: 44033 | D37: Балапан | E37: Младший дошкольный возраст | F37: От 2 лет | G37: 2022-06-07T00:00:00
A38: 33 | B38: САБЫРОВ АЛИХАН НАРИМАНОВИЧ | C38: 44033 | D38: Балапан | E38: Младший дошкольный возраст | F38: От 2 лет | G38: 2022-06-07T00:00:00 | I38: ='[4]Выбывшие (7)'!$AB$1120 -> 2023-03-02T00:00:00 | J38: по заявлению
A39: 34 | B39: САНДЫБАЕВА ЗЕРЕ КУНАНБАЕВНА | C39: 43884 | D39: Балапан | E39: Младший дошкольный возраст | F39: От 2 лет | G39: 2022-06-07T00:00:00
A40: 35 | B40: ЖҰМАЖАН МЕДИНА АСАНҚЫЗЫ | C40: 44162 | D40: Балапан | E40: Младший дошкольный возраст | F40: От 2 лет | G40: 2022-06-07T00:00:00
A41: 36 | B41: ЕСИМБАЕВ БАХТИЯР ЕЛАМАНОВИЧ | C41: 43926 | D41: Балапан | E41: Младший дошкольный возраст | F41: От 2 лет | G41: 2022-06-09T00:00:00
A42: 37 | B42: ОРАЗХАНОВ АМИРХАН КУАНЫШЕВИЧ | C42: 43997 | D42: Балапан | E42: Младший дошкольный возраст | F42: От 2 лет | G42: 2022-06-14T00:00:00
...

Sheet 2023-2024
E1: Приложение 3 к Методическим рекомендациям
A3: Структура контингента воспитанников на 2023-2024 учебный год Государственное коммунальное казенное предприятие «Детский сад № 5 «Еркетай»города Степногорск при отделе образования по городу Степногорск управления образования Акмолинской области»
A4: № п/п | B4: Ф.И.О. | C4: Дата, месяц, год рождения | D4: Наименование группы | E4: Возрастная периодизация | F4: Возрастные группы | G4: сведения о зачислении в ДО | I4: сведения об отчислении из ДО
G5: Дата прибытия | H5: из них по государственному заказу (для частных ДО) | I5: Дата выбытия | J5: основание выбытия (выпуск, по заявлению, согласно ТПД и др.)
A6: 1 | B6: НУРУШЕВА АЙЛИН КАЙРАТОВНА | C6: 44422 | D6: Қоңыраугүл | E6: ='2022-2023 исправленный'!E6 -> Младший дошкольный возраст | F6: ='2022-2023 исправленный'!F6 -> От 2 лет | G6: 45155.698
A7: 2 | B7: САКЕНОВ ДИДАР АРДАКОВИЧ | C7: 44400 | D7: Қоңыраугүл | E7: ='2022-2023 исправленный'!E7 -> Младший дошкольный возраст | F7: ='2022-2023 исправленный'!F7 -> От 2 лет | G7: 45162.437 | I7: 45209.496 | J7: по заявлению
A8: 3 | B8: САГАТОВА ДАНЕЛЬ ГАЛИЕВНА | C8: 44390 | D8: Қоңыраугүл | E8: ='2022-2023 исправленный'!E8 -> Младший дошкольный возраст | F8: ='2022-2023 исправленный'!F8 -> От 2 лет | G8: 45155.418
A9: 4 | B9: ӘДІЛХАН НҰРИСЛАМ ТӨРЕХАНҰЛЫ | C9: 44372 | D9: Қоңыраугүл | E9: ='2022-2023 исправленный'!E9 -> Младший дошкольный возраст | F9: ='2022-2023 исправленный'!F9 -> От 2 лет | G9: 45146.699
A10: 5 | B10: МҰРАТБАЙ НҰРИСЛАМ НҰРСҰЛТАНҰЛЫ | C10: 44372 | D10: Қоңыраугүл | E10: ='2022-2023 исправленный'!E10 -> Младший дошкольный возраст | F10: ='2022-2023 исправленный'!F10 -> От 2 лет | G10: 45155.699
A11: 6 | B11: САҒЫНБАЙ ЗЕРЕ САҒЫНДЫҚҚЫЗЫ | C11: 44351 | D11: Қоңыраугүл | E11: ='2022-2023 исправленный'!E11 -> Младший дошкольный возраст | F11: ='2022-2023 исправленный'!F11 -> От 2 лет | G11: 45161.383
A12: 7 | B12: ЕРЛАНОВА МЕДИНА МЕЙРЖАНОВНА | C12: 44327 | D12: Қоңыраугүл | E12: ='2022-2023 исправленный'!E12 -> Младший дошкольный возраст | F12: ='2022-2023 исправленный'!F12 -> От 2 лет | G12: 45161.65
A13: 8 | B13: ҚАЙЫРГЕЛДІ НҰРКЕЛДІ МИРАСҰЛЫ | C13: 44326 | D13: Қоңыраугүл | E13: ='2022-2023 исправленный'!E13 -> Младший дошкольный возраст | F13: ='2022-2023 исправленный'!F13 -> От 2 лет | G13: 45153.499
A14: 9 | B14: ЖҰМАБЕКҚЫЗЫ ФАТИМА | C14: 44325 | D14: Қоңыраугүл | E14: ='2022-2023 исправленный'!E14 -> Младший дошкольный возраст | F14: ='2022-2023 исправленный'!F14 -> От 2 лет | G14: 45146.677
A15: 10 | B15: ЕРМЕКОВ БАТЫРХАН НУРЛАНОВИЧ | C15: 44294 | D15: Қоңыраугүл | E15: ='2022-2023 исправленный'!E15 -> Младший дошкольный возраст | F15: ='2022-2023 исправленный'!F15 -> От 2 лет | G15: 45167.445
A16: 11 | B16: БОРАНБАЙ НҰРАСЫЛ ТАЛҒАТҰЛЫ | C16: 44277 | D16: Қоңыраугүл | E16: ='2022-2023 исправленный'!E16 -> Младший дошкольный возраст | F16: ='2022-2023 исправленный'!F16 -> От 2 лет | G16: 45153.5
A17: 12 | B17: БЕКЗАН АЖАР МАРАТҚЫЗЫ | C17: 44237 | D17: Қоңыраугүл | E17: ='2022-2023 исправленный'!E17 -> Младший дошкольный возраст | F17: ='2022-2023 исправленный'!F17 -> От 2 лет | G17: 45147.619
A18: 13 | B18: ЖУМАБЕКОВА АЙАРУ АЙБЕКОВНА | C18: 44221 | D18: Қоңыраугүл | E18: ='2022-2023 исправленный'!E18 -> Младший дошкольный возраст | F18: ='2022-2023 исправленный'!F18 -> От 2 лет | G18: 45149.568
A19: 14 | B19: ЖАНАХАЕВ АЛИ ДОСЖАНОВИЧ | C19: 44206 | D19: Қоңыраугүл | E19: ='2022-2023 исправленный'!E19 -> Младший дошкольный возраст | F19: ='2022-2023 исправленный'!F19 -> От 2 лет | G19: 45182.642
A20: 15 | B20: САПАРОВ ДИЯР ТЕМИРЛАНОВИЧ | C20: 44204 | D20: Қоңыраугүл | E20: ='2022-2023 исправленный'!E20 -> Младший дошкольный возраст | F20: ='2022-2023 исправленный'!F20 -> От 2 лет | G20: 45161.644 | I20: 45239.521 | J20: по заявлению
A21: 16 | B21: СЕЙТҚАЛИ ТАСНИМ ҚУАНДЫҚҚЫЗЫ | C21: 44196 | D21: Қоңыраугүл | E21: ='2022-2023 исправленный'!E21 -> Младший дошкольный возраст | F21: ='2022-2023 исправленный'!F21 -> От 2 лет | G21: 45072.666
A22: 17 | B22: ЖУСУПОВА АСЫЛЫМ НУРМУХАМЕТОВНА | C22: 44188 | D22: Қоңыраугүл | E22: ='2022-2023 исправленный'!E22 -> Младший дошкольный возраст | F22: ='2022-2023 исправленный'!F22 -> От 2 лет | G22: 45076.564
A23: 18 | B23: БЕКТАУ ЖАНАЛИ АСЛАНҰЛЫ | C23: 44180 | D23: Қоңыраугүл | E23: ='2022-2023 исправленный'!E23 -> Младший дошкольный возраст | F23: ='2022-2023 исправленный'!F23 -> От 2 лет | G23: 45086.622
A24: 19 | B24: ӘЛІБЕКҚЫЗЫ МЕРЕЙ | C24: 44166 | D24: Қоңыраугүл | E24: ='2022-2023 исправленный'!E24 -> Младший дошкольный возраст | F24: ='2022-2023 исправленный'!F24 -> От 2 лет | G24: 45078.415
A25: 20 | B25: ДҮЙСЕНБАЙ ЖАНТӨРЕ ЖӘНІБЕКҰЛЫ | C25: 44206 | D25: Қоңыраугүл | E25: ='2022-2023 исправленный'!E25 -> Младший дошкольный возраст | F25: ='2022-2023 исправленный'!F25 -> От 2 лет | G25: 45147.515 | I25: 45190.448 | J25: по заявлению
A26: 21 | B26: МАХАНБЕТОВА НУРСАЯ НУРБЕКОВНА | C26: 44191 | D26: Қоңыраугүл | E26: ='2022-2023 исправленный'!E26 -> Младший дошкольный возраст | F26: ='2022-2023 исправленный'!F26 -> От 2 лет | G26: 45075.605 | I26: 45176.415 | J26: по заявлению
A27: 22 | B27: РУСЛАН ЕРКЕМАЙ НҰРСҰЛТАНҚЫЗЫ | C27: 44431 | D27: Қоңыраугүл | E27: ='2022-2023 исправленный'!E27 -> Младший дошкольный возраст | F27: ='2022-2023 исправленный'!F27 -> От 2 лет | G27: 45218.41
A28: 23 | B28: ТАЛҒАТ АРМАН АЛЖАНҰЛЫ | C28: 44309 | D28: Қоңыраугүл | E28: ='2022-2023 исправленный'!E28 -> Младший дошкольный возраст | F28: ='2022-2023 исправленный'!F28 -> От 2 лет | G28: 45201.441
A29: 24 | B29: ЖУМАТАЕВА ДИЛЯРА | C29: 44466 | D29: Қоңыраугүл | E29: ='2022-2023 исправленный'!E29 -> Младший дошкольный возраст | F29: ='2022-2023 исправленный'!F29 -> От 2 лет | G29: 45238.452
A30: 25 | B30: =[12]Sheet!$C$2 -> ДУБИРБАЕВА ЗЕРЕ КАНАТОВНА | C30: 44432 | D30: Карусель | E30: ='2022-2023 исправленный'!E25 -> Младший дошкольный возраст | F30: ='2022-2023 исправленный'!F25 -> От 2 лет | G30: 45170.513
A31: 26 | B31: =[12]Sheet!$C$4 -> ГЕРАСИМОВА ДАРИНА АНДРЕЕВНА | C31: 44407 | D31: Карусель | E31: ='2022-2023 исправленный'!E26 -> Младший дошкольный возраст | F31: ='2022-2023 исправленный'!F26 -> От 2 лет | G31: 45146.461
A32: 27 | B32: =[12]Sheet!C7 -> РЫМҰЛЫ ОЛЖАС | C32: 44389 | D32: Карусель | E32: ='2022-2023 исправленный'!E27 -> Младший дошкольный возраст | F32: ='2022-2023 исправленный'!F27 -> От 2 лет | G32: 45155.698
A33: 28 | B33: =[12]Sheet!C8 -> МИРОШНИЧЕНКО НИКОЛЬ ВЛАДИСЛАВОВНА | C33: 44375 | D33: Карусель | E33: ='2022-2023 исправленный'!E28 -> Младший дошкольный возраст | F33: ='2022-2023 исправленный'!F28 -> От 2 лет | G33: 45167.395
A34: 29 | B34: =[12]Sheet!C11 -> ВИНОГРАДОВА АРИНА АЛЕКСАНДРОВНА | C34: 44369 | D34: Карусель | E34: ='2022-2023 исправленный'!E29 -> Младший дошкольный возраст | F34: ='2022-2023 исправленный'!F29 -> От 2 лет | G34: 45161.66
A35: 30 | B35: =[12]Sheet!C12 -> КОНДРАТЬЕВА АРИНА АЛЕКСАНДРОВНА | C35: 44364 | D35: Карусель | E35: ='2022-2023 исправленный'!E30 -> Младший дошкольный возраст | F35: ='2022-2023 исправленный'!F30 -> От 2 лет | G35: 45148.5
A36: 31 | B36: =[12]Sheet!C14 -> МУХАМЕТЖАР МУХАММАД - АЛИ БАХТИЯРҰЛЫ | C36: 44339 | D36: Карусель | E36: ='2022-2023 исправленный'!E31 -> Младший дошкольный возраст | F36: ='2022-2023 исправленный'!F31 -> От 2 лет | G36: 45100.464
A37: 32 | B37: =[12]Sheet!C15 -> ЮНГ КИРА ДАНИИЛОВНА | C37: 44338 | D37: Карусель | E37: ='2022-2023 исправленный'!E32 -> Младший дошкольный возраст | F37: ='2022-2023 исправленный'!F32 -> От 2 лет | G37: 45100.531
A38: 33 | B38: =[12]Sheet!C16 -> ПЫШНЫЙ ИЛЬЯ КОНСТАНТИНОВИЧ | C38: 44335 | D38: Карусель | E38: ='2022-2023 исправленный'!E33 -> Младший дошкольный возраст | F38: ='2022-2023 исправленный'!F33 -> От 2 лет | G38: 45121.605 | I38: 45266.416 | J38: по заявлению
A39: 34 | B39: =[12]Sheet!C17 -> ШИТОВА ЕЛИЗАВЕТА ПАВЛОВНА | C39: 44332 | D39: Карусель | E39: ='2022-2023 исправленный'!E34 -> Младший дошкольный возраст | F39: ='2022-2023 исправленный'!F34 -> От 2 лет | G39: 45100.464
A40: 35 | B40: =[12]Sheet!C21 -> ЕРКЕН МЕДИНА МҰРАТҚЫЗЫ | C40: 44307 | D40: Карусель | E40: ='2022-2023 исправленный'!E35 -> Младший дошкольный возраст | F40: ='2022-2023 исправленный'!F35 -> От 2 лет | G40: 45106.69
A41: 36 | B41: =[12]Sheet!C22 -> ТЮРИНА ЯНА МАКСИМОВНА | C41: 44298 | D41: Карусель | E41: ='2022-2023 исправленный'!E36 -> Младший дошкольный возраст | F41: ='2022-2023 исправленный'!F36 -> От 2 лет | G41: 45112.623
...
